{"text_format":"3","workbook":"xlsx","n_sheets":3,"sheets":["Layer Body Weight (g)","Layer Body Weight (kg)","Standards"],"not_rendered":{"charts":4,"external_links":3,"defined_names":27},"read":"whole","date_system":"1900"}

{"sheet":"Layer Body Weight (g)","index":0,"n_rows":144,"n_cols":39,"rows_kept":144,"merged":[[0,8,0,10],[2,25,2,26],[35,3,35,24]]}
["Enter values in high-lighted yellow cells -- all other cells are calculated",{"$nulls":6},"Breed:","Hy-Line Pink"]
[]
[null,"Body weight. if there is no data, leave cells empty—do not enter a zero (0).",{"$nulls":14},"Standards will populate with breed selection",{"$nulls":5},"Breed",null,"Standards","Weekly wt. gain"]
[null,"g","Outside range",{"$nulls":14},"Count","g","kg","Unif %","CV%","Min",null,"Max","Standard","Actual",{"$nulls":7},"Hidden","Standard","Max","Min","Actual"]
[1,null,{"$f":"IF(B5=0,\"\",IF(B5=\"\",\"\",IF(B5>$J$8,\"High\",IF(B5<$J$9,\"Low\",\"\"))))","v":""},null,"Number of birds weighed",{"$nulls":4},{"$f":"COUNTIF(B5:B104,\">0\")","v":0},{"$nulls":6},"Week 15",{"$f":"E$38","v":0},{"$f":"E$39","v":0},{"$f":"S5/1000","v":{"v":0,"d":"0.000"}},{"$f":"E$40","v":{"v":0,"d":"0.0%"}},{"$f":"E$41","v":{"v":0,"d":"0.0%"}},{"$f":"IF($I$1=\"Hy-Line W-36\", Standards!K17, IF($I$1=\"Hy-Line Brown\", Standards!B17, IF($I$1=\"Hy-Line W-80\", Standards!T17, IF($I$1=\"Hy-Line Pink\", Standards!AC17, IF($I$1=\"Hy-Line Silver Brown\", Standards!AL17, IF($I$1=\"Hy-Line Sonia\", Standards!AU17, 0))))))","v":1310},{"$f":"IF($I$1=\"Hy-Line W-36\", Standards!L17, IF($I$1=\"Hy-Line Brown\", Standards!C17, IF($I$1=\"Hy-Line W-80\", Standards!U17, IF($I$1=\"Hy-Line Pink\", Standards!AD17, IF($I$1=\"Hy-Line Silver Brown\", Standards!AM17, IF($I$1=\"Hy-Line Sonia\", Standards!AV17, 0))))))","v":"–"},{"$f":"IF($I$1=\"Hy-Line W-36\", Standards!M17, IF($I$1=\"Hy-Line Brown\", Standards!D17, IF($I$1=\"Hy-Line W-80\", Standards!V17, IF($I$1=\"Hy-Line Pink\", Standards!AE17, IF($I$1=\"Hy-Line Silver Brown\", Standards!AN17, IF($I$1=\"Hy-Line Sonia\", Standards!AW17, 0))))))","v":1350},null,{"$f":"IF(S5>0, S5, NA())","v":{"$error":"#N/A"}},{"$nulls":6},15,{"$f":"IF(Y5>0, AL5, NA())","v":1310},{"$f":"IF(Y5>0, AK5-AL5, NA())","v":40},{"$f":"IF(Y5>0, Y5, NA())","v":1350},{"$f":"W5","v":1310},{"$f":"IF(S5>0, S5, NA())","v":{"$error":"#N/A"}}]
[{"$f":"1+A5","v":2},null,"",{"$nulls":13},"Week 16",{"$f":"F$38","v":0},{"$f":"F$39","v":0},{"$f":"S6/1000","v":{"v":0,"d":"0.000"}},{"$f":"F$40","v":{"v":0,"d":"0.0%"}},{"$f":"F$41","v":{"v":0,"d":"0.0%"}},{"$f":"IF($I$1=\"Hy-Line W-36\", Standards!K18, IF($I$1=\"Hy-Line Brown\", Standards!B18, IF($I$1=\"Hy-Line W-80\", Standards!T18, IF($I$1=\"Hy-Line Pink\", Standards!AC18, IF($I$1=\"Hy-Line Silver Brown\", Standards!AL18, IF($I$1=\"Hy-Line Sonia\", Standards!AU18, 0))))))","v":1380},null,{"$f":"IF($I$1=\"Hy-Line W-36\", Standards!M18, IF($I$1=\"Hy-Line Brown\", Standards!D18, IF($I$1=\"Hy-Line W-80\", Standards!V18, IF($I$1=\"Hy-Line Pink\", Standards!AE18, IF($I$1=\"Hy-Line Silver Brown\", Standards!AN18, IF($I$1=\"Hy-Line Sonia\", Standards!AW18, 0))))))","v":1420},{"$f":"IF(Y6>0, ((W6+Y6)/2)-((W5+Y5)/2), W6-W5)","v":70},{"$f":"IF(S6>0, S6-S5, NA())","v":{"$error":"#N/A"}},{"$nulls":6},16,{"$f":"IF(Y6>0, AL6, NA())","v":1380},{"$f":"IF(Y6>0, AK6-AL6, NA())","v":40},{"$f":"IF(Y6>0, Y6, NA())","v":1420},{"$f":"W6","v":1380},{"$f":"IF(S6>0, S6, NA())","v":{"$error":"#N/A"}}]
[{"$f":"1+A6","v":3},null,"",null,"Mean body weight",{"$nulls":4},{"$f":"IFERROR(AVERAGE(B5:B104), 0)","v":0},"g",{"$nulls":5},"Week 17",{"$f":"G$38","v":0},{"$f":"G$39","v":0},{"v":0,"d":"0.000"},{"$f":"G$40","v":{"v":0,"d":"0.0%"}},{"$f":"G$41","v":{"v":0,"d":"0.0%"}},{"$f":"IF($I$1=\"Hy-Line W-36\", Standards!K19, IF($I$1=\"Hy-Line Brown\", Standards!B19, IF($I$1=\"Hy-Line W-80\", Standards!T19, IF($I$1=\"Hy-Line Pink\", Standards!AC19, IF($I$1=\"Hy-Line Silver Brown\", Standards!AL19, IF($I$1=\"Hy-Line Sonia\", Standards!AU19, 0))))))","v":1440},null,{"$f":"IF($I$1=\"Hy-Line W-36\", Standards!M19, IF($I$1=\"Hy-Line Brown\", Standards!D19, IF($I$1=\"Hy-Line W-80\", Standards!V19, IF($I$1=\"Hy-Line Pink\", Standards!AE19, IF($I$1=\"Hy-Line Silver Brown\", Standards!AN19, IF($I$1=\"Hy-Line Sonia\", Standards!AW19, 0))))))","v":1480},{"$f":"IF(Y7>0, ((W7+Y7)/2)-((W6+Y6)/2), W7-W6)","v":60},{"$f":"IF(S7>0, S7-S6, NA())","v":{"$error":"#N/A"}},{"$nulls":6},17,1440,40,1480,1440,{"$error":"#N/A"}]
[4,null,"",null,"Mean + 10%",{"$nulls":4},{"$f":"IF(J7>0, ROUND(J7*1.1,3), 0)","v":0},"g",{"$nulls":5},"Week 18",{"$f":"H$38","v":0},{"$f":"H$39","v":0},{"v":0,"d":"0.000"},{"$f":"H$40","v":{"v":0,"d":"0.0%"}},{"$f":"H$41","v":{"v":0,"d":"0.0%"}},{"$f":"IF($I$1=\"Hy-Line W-36\", Standards!K20, IF($I$1=\"Hy-Line Brown\", Standards!B20, IF($I$1=\"Hy-Line W-80\", Standards!T20, IF($I$1=\"Hy-Line Pink\", Standards!AC20, IF($I$1=\"Hy-Line Silver Brown\", Standards!AL20, IF($I$1=\"Hy-Line Sonia\", Standards!AU20, 0))))))","v":1450},null,{"$f":"IF($I$1=\"Hy-Line W-36\", Standards!M20, IF($I$1=\"Hy-Line Brown\", Standards!D20, IF($I$1=\"Hy-Line W-80\", Standards!V20, IF($I$1=\"Hy-Line Pink\", Standards!AE20, IF($I$1=\"Hy-Line Silver Brown\", Standards!AN20, IF($I$1=\"Hy-Line Sonia\", Standards!AW20, 0))))))","v":1550},40,{"$error":"#N/A"},{"$nulls":6},18,1450,100,1550,1450,{"$error":"#N/A"}]
[5,null,"",null,"Mean – 10%",{"$nulls":4},{"$f":"ROUND(J7*0.9,3)","v":0},"g",{"$nulls":5},"Week 19",{"$f":"I$38","v":0},{"$f":"I$39","v":0},{"v":0,"d":"0.000"},{"$f":"I$40","v":{"v":0,"d":"0.0%"}},{"$f":"I$41","v":{"v":0,"d":"0.0%"}},{"$f":"IF($I$1=\"Hy-Line W-36\", Standards!K21, IF($I$1=\"Hy-Line Brown\", Standards!B21, IF($I$1=\"Hy-Line W-80\", Standards!T21, IF($I$1=\"Hy-Line Pink\", Standards!AC21, IF($I$1=\"Hy-Line Silver Brown\", Standards!AL21, IF($I$1=\"Hy-Line Sonia\", Standards!AU21, 0))))))","v":1490},null,{"$f":"IF($I$1=\"Hy-Line W-36\", Standards!M21, IF($I$1=\"Hy-Line Brown\", Standards!D21, IF($I$1=\"Hy-Line W-80\", Standards!V21, IF($I$1=\"Hy-Line Pink\", Standards!AE21, IF($I$1=\"Hy-Line Silver Brown\", Standards!AN21, IF($I$1=\"Hy-Line Sonia\", Standards!AW21, 0))))))","v":1600},45,{"$error":"#N/A"},{"$nulls":6},19,1490,110,1600,1490,{"$error":"#N/A"}]
[6,null,"",{"$nulls":13},"Week 20",{"$f":"J$38","v":0},{"$f":"J$39","v":0},{"v":0,"d":"0.000"},{"$f":"J$40","v":{"v":0,"d":"0.0%"}},{"$f":"J$41","v":{"v":0,"d":"0.0%"}},{"$f":"IF($I$1=\"Hy-Line W-36\", Standards!K22, IF($I$1=\"Hy-Line Brown\", Standards!B22, IF($I$1=\"Hy-Line W-80\", Standards!T22, IF($I$1=\"Hy-Line Pink\", Standards!AC22, IF($I$1=\"Hy-Line Silver Brown\", Standards!AL22, IF($I$1=\"Hy-Line Sonia\", Standards!AU22, 0))))))","v":1590},null,{"$f":"IF($I$1=\"Hy-Line W-36\", Standards!M22, IF($I$1=\"Hy-Line Brown\", Standards!D22, IF($I$1=\"Hy-Line W-80\", Standards!V22, IF($I$1=\"Hy-Line Pink\", Standards!AE22, IF($I$1=\"Hy-Line Silver Brown\", Standards!AN22, IF($I$1=\"Hy-Line Sonia\", Standards!AW22, 0))))))","v":1650},75,{"$error":"#N/A"},{"$nulls":6},20,1590,60,1650,1590,{"$error":"#N/A"}]
[7,null,"",null,{"$f":"CONCATENATE(\"Number of birds outside \",FIXED(J8,0),\" and \",FIXED(J9,0),\" g\")","v":"Number of birds outside 0 and 0 g"},{"$nulls":4},{"$f":"COUNTIF(C5:C104,\"High\")+COUNTIF(C5:C104,\"Low\")","v":0},{"$nulls":6},"Week 21",{"$f":"K$38","v":0},{"$f":"K$39","v":0},{"v":0,"d":"0.000"},{"$f":"K$40","v":{"v":0,"d":"0.0%"}},{"$f":"K$41","v":{"v":0,"d":"0.0%"}},{"$f":"IF($I$1=\"Hy-Line W-36\", Standards!K23, IF($I$1=\"Hy-Line Brown\", Standards!B23, IF($I$1=\"Hy-Line W-80\", Standards!T23, IF($I$1=\"Hy-Line Pink\", Standards!AC23, IF($I$1=\"Hy-Line Silver Brown\", Standards!AL23, IF($I$1=\"Hy-Line Sonia\", Standards!AU23, 0))))))","v":1670},null,{"$f":"IF($I$1=\"Hy-Line W-36\", Standards!M23, IF($I$1=\"Hy-Line Brown\", Standards!D23, IF($I$1=\"Hy-Line W-80\", Standards!V23, IF($I$1=\"Hy-Line Pink\", Standards!AE23, IF($I$1=\"Hy-Line Silver Brown\", Standards!AN23, IF($I$1=\"Hy-Line Sonia\", Standards!AW23, 0))))))","v":1700},65,{"$error":"#N/A"},{"$nulls":6},21,1670,30,1700,1670,{"$error":"#N/A"}]
[8,null,"",null,{"$f":"CONCATENATE(\"Uniformity = ([\",J5,\"-\",J11,\"]/\",J5,\") x 100 = \")","v":"Uniformity = ([0-0]/0) x 100 = "},{"$nulls":4},{"$f":"IFERROR(ROUND(((J5-J11)/J5)*100,0), 0)","v":0},"%",{"$nulls":5},"Week 22",{"$f":"L$38","v":0},{"$f":"L$39","v":0},{"v":0,"d":"0.000"},{"$f":"L$40","v":{"v":0,"d":"0.0%"}},{"$f":"L$41","v":{"v":0,"d":"0.0%"}},{"$f":"IF($I$1=\"Hy-Line W-36\", Standards!K24, IF($I$1=\"Hy-Line Brown\", Standards!B24, IF($I$1=\"Hy-Line W-80\", Standards!T24, IF($I$1=\"Hy-Line Pink\", Standards!AC24, IF($I$1=\"Hy-Line Silver Brown\", Standards!AL24, IF($I$1=\"Hy-Line Sonia\", Standards!AU24, 0))))))","v":1710},null,{"$f":"IF($I$1=\"Hy-Line W-36\", Standards!M24, IF($I$1=\"Hy-Line Brown\", Standards!D24, IF($I$1=\"Hy-Line W-80\", Standards!V24, IF($I$1=\"Hy-Line Pink\", Standards!AE24, IF($I$1=\"Hy-Line Silver Brown\", Standards!AN24, IF($I$1=\"Hy-Line Sonia\", Standards!AW24, 0))))))","v":1750},45,{"$error":"#N/A"},{"$nulls":6},22,1710,40,1750,1710,{"$error":"#N/A"}]
[9,null,"",null,{"$f":"IFERROR(CONCATENATE(\"CV = (\",TEXT(G19, \"#.##\"),\"/\",TEXT(J7,\"#\"),\") x 100 = \"), \"CV%\")","v":"CV%"},{"$nulls":4},{"$f":"IFERROR((G19/J7)*100, 0)","v":{"v":0,"d":"0.0"}},"%",null,null,"Body weight Range","Count",null,"Week 23",{"$f":"M$38","v":0},{"$f":"M$39","v":0},{"v":0,"d":"0.000"},{"$f":"M$40","v":{"v":0,"d":"0.0%"}},{"$f":"M$41","v":{"v":0,"d":"0.0%"}},{"$f":"IF($I$1=\"Hy-Line W-36\", Standards!K25, IF($I$1=\"Hy-Line Brown\", Standards!B25, IF($I$1=\"Hy-Line W-80\", Standards!T25, IF($I$1=\"Hy-Line Pink\", Standards!AC25, IF($I$1=\"Hy-Line Silver Brown\", Standards!AL25, IF($I$1=\"Hy-Line Sonia\", Standards!AU25, 0))))))","v":1730},null,{"$f":"IF($I$1=\"Hy-Line W-36\", Standards!M25, IF($I$1=\"Hy-Line Brown\", Standards!D25, IF($I$1=\"Hy-Line W-80\", Standards!V25, IF($I$1=\"Hy-Line Pink\", Standards!AE25, IF($I$1=\"Hy-Line Silver Brown\", Standards!AN25, IF($I$1=\"Hy-Line Sonia\", Standards!AW25, 0))))))","v":1800},35,{"$error":"#N/A"},{"$nulls":6},23,1730,70,1800,1730,{"$error":"#N/A"}]
[10,null,"",{"$nulls":13},"Week 24",{"$f":"N$38","v":0},{"$f":"N$39","v":0},{"v":0,"d":"0.000"},{"$f":"N$40","v":{"v":0,"d":"0.0%"}},{"$f":"N$41","v":{"v":0,"d":"0.0%"}},{"$f":"IF($I$1=\"Hy-Line W-36\", Standards!K26, IF($I$1=\"Hy-Line Brown\", Standards!B26, IF($I$1=\"Hy-Line W-80\", Standards!T26, IF($I$1=\"Hy-Line Pink\", Standards!AC26, IF($I$1=\"Hy-Line Silver Brown\", Standards!AL26, IF($I$1=\"Hy-Line Sonia\", Standards!AU26, 0))))))","v":1740},null,{"$f":"IF($I$1=\"Hy-Line W-36\", Standards!M26, IF($I$1=\"Hy-Line Brown\", Standards!D26, IF($I$1=\"Hy-Line W-80\", Standards!V26, IF($I$1=\"Hy-Line Pink\", Standards!AE26, IF($I$1=\"Hy-Line Silver Brown\", Standards!AN26, IF($I$1=\"Hy-Line Sonia\", Standards!AW26, 0))))))","v":1830},20,{"$error":"#N/A"},{"$nulls":6},24,1740,90,1830,1740,{"$error":"#N/A"}]
[11,null,"",null,null,"Min",{"$f":"MIN(B5:B104)-0.0000001","v":{"v":-1e-07,"d":"-0.0"}},{"$f":"ROUNDDOWN(G15,1)","v":{"v":0,"d":"0.0"}},null,"Normal distr. Curve",{"$nulls":3},{"$f":"CONCATENATE(FIXED(H15,0),\"–\",FIXED(J18,0))","v":"0–0"},{"$f":"COUNTIF($B$5:$B$105,\"<\"&J18)-COUNTIF($B$5:$B105,\"<\"&J17)","v":0},null,"Week 25",{"$f":"O$38","v":0},{"$f":"O$39","v":0},{"v":0,"d":"0.000"},{"$f":"O$40","v":{"v":0,"d":"0.0%"}},{"$f":"O$41","v":{"v":0,"d":"0.0%"}},{"$f":"IF($I$1=\"Hy-Line W-36\", Standards!K27, IF($I$1=\"Hy-Line Brown\", Standards!B27, IF($I$1=\"Hy-Line W-80\", Standards!T27, IF($I$1=\"Hy-Line Pink\", Standards!AC27, IF($I$1=\"Hy-Line Silver Brown\", Standards!AL27, IF($I$1=\"Hy-Line Sonia\", Standards!AU27, 0))))))","v":1760},null,{"$f":"IF($I$1=\"Hy-Line W-36\", Standards!M27, IF($I$1=\"Hy-Line Brown\", Standards!D27, IF($I$1=\"Hy-Line W-80\", Standards!V27, IF($I$1=\"Hy-Line Pink\", Standards!AE27, IF($I$1=\"Hy-Line Silver Brown\", Standards!AN27, IF($I$1=\"Hy-Line Sonia\", Standards!AW27, 0))))))","v":1850},20,{"$error":"#N/A"},{"$nulls":6},25,1760,90,1850,1760,{"$error":"#N/A"}]
[12,null,"",null,null,"Max",{"$f":"MAX(B5:B104)+0.0000001","v":{"v":1e-07,"d":"0.0"}},{"$f":"ROUNDUP(G16,1)","v":0.1},null,"x","y",null,null,{"$f":"CONCATENATE(FIXED(J18,0),\"–\",FIXED(J19,0))","v":"0–0"},{"$f":"COUNTIF($B$5:$B$105,\"<\"&J19)-COUNTIF($B$5:$B106,\"<\"&J18)","v":0},null,"Week 26",{"$f":"P$38","v":0},{"$f":"P$39","v":0},{"v":0,"d":"0.000"},{"$f":"P$40","v":{"v":0,"d":"0.0%"}},{"$f":"P$41","v":{"v":0,"d":"0.0%"}},{"$f":"IF($I$1=\"Hy-Line W-36\", Standards!K28, IF($I$1=\"Hy-Line Brown\", Standards!B28, IF($I$1=\"Hy-Line W-80\", Standards!T28, IF($I$1=\"Hy-Line Pink\", Standards!AC28, IF($I$1=\"Hy-Line Silver Brown\", Standards!AL28, IF($I$1=\"Hy-Line Sonia\", Standards!AU28, 0))))))","v":1770},null,{"$f":"IF($I$1=\"Hy-Line W-36\", Standards!M28, IF($I$1=\"Hy-Line Brown\", Standards!D28, IF($I$1=\"Hy-Line W-80\", Standards!V28, IF($I$1=\"Hy-Line Pink\", Standards!AE28, IF($I$1=\"Hy-Line Silver Brown\", Standards!AN28, IF($I$1=\"Hy-Line Sonia\", Standards!AW28, 0))))))","v":1870},15,{"$error":"#N/A"},{"$nulls":6},26,1770,100,1870,1770,{"$error":"#N/A"}]
[13,null,"",null,null,"Intervals",{"$f":"ROUND((J7-G15)/5,3)","v":{"v":0,"d":"0.0"}},{"$f":"ROUND((H16-H15)/10,3)","v":{"v":0.01,"d":"0.0"}},null,{"$f":"H15","v":0},{"$f":"NORMDIST(J17,$J$7,$G$19,FALSE)","v":{"$error":"#DIV/0!"}},null,null,"0–0",{"$f":"COUNTIF($B$5:$B$105,\"<\"&J20)-COUNTIF($B$5:$B107,\"<\"&J19)","v":0},null,"Week 27",{"$f":"Q$38","v":0},{"$f":"Q$39","v":0},{"v":0,"d":"0.000"},{"$f":"Q$40","v":{"v":0,"d":"0.0%"}},{"$f":"Q$41","v":{"v":0,"d":"0.0%"}},{"$f":"IF($I$1=\"Hy-Line W-36\", Standards!K29, IF($I$1=\"Hy-Line Brown\", Standards!B29, IF($I$1=\"Hy-Line W-80\", Standards!T29, IF($I$1=\"Hy-Line Pink\", Standards!AC29, IF($I$1=\"Hy-Line Silver Brown\", Standards!AL29, IF($I$1=\"Hy-Line Sonia\", Standards!AU29, 0))))))","v":1780},null,{"$f":"IF($I$1=\"Hy-Line W-36\", Standards!M29, IF($I$1=\"Hy-Line Brown\", Standards!D29, IF($I$1=\"Hy-Line W-80\", Standards!V29, IF($I$1=\"Hy-Line Pink\", Standards!AE29, IF($I$1=\"Hy-Line Silver Brown\", Standards!AN29, IF($I$1=\"Hy-Line Sonia\", Standards!AW29, 0))))))","v":1890},15,{"$error":"#N/A"},{"$nulls":6},27,1780,110,1890,1780,{"$error":"#N/A"}]
[14,null,"",{"$nulls":6},{"$f":"J17+$H$17","v":{"v":0.01,"d":"0"}},{"$error":"#DIV/0!"},null,null,"0–0",{"$f":"COUNTIF($B$5:$B$105,\"<\"&J21)-COUNTIF($B$5:$B108,\"<\"&J20)","v":0},null,"Week 28",{"$f":"R$38","v":0},{"$f":"R$39","v":0},{"v":0,"d":"0.000"},{"$f":"R$40","v":{"v":0,"d":"0.0%"}},{"$f":"R$41","v":{"v":0,"d":"0.0%"}},{"$f":"IF($I$1=\"Hy-Line W-36\", Standards!K30, IF($I$1=\"Hy-Line Brown\", Standards!B30, IF($I$1=\"Hy-Line W-80\", Standards!T30, IF($I$1=\"Hy-Line Pink\", Standards!AC30, IF($I$1=\"Hy-Line Silver Brown\", Standards!AL30, IF($I$1=\"Hy-Line Sonia\", Standards!AU30, 0))))))","v":1800},null,{"$f":"IF($I$1=\"Hy-Line W-36\", Standards!M30, IF($I$1=\"Hy-Line Brown\", Standards!D30, IF($I$1=\"Hy-Line W-80\", Standards!V30, IF($I$1=\"Hy-Line Pink\", Standards!AE30, IF($I$1=\"Hy-Line Silver Brown\", Standards!AN30, IF($I$1=\"Hy-Line Sonia\", Standards!AW30, 0))))))","v":1900},15,{"$error":"#N/A"},{"$nulls":6},28,1800,100,1900,1800,{"$error":"#N/A"}]
[15,null,"",null,null,"stdev",{"$f":"STDEV(B4:B105)","v":{"$error":"#DIV/0!"}},null,null,{"v":0.02,"d":"0"},{"$error":"#DIV/0!"},null,null,"0–0",{"$f":"COUNTIF($B$5:$B$105,\"<\"&J22)-COUNTIF($B$5:$B109,\"<\"&J21)","v":0},null,"Week 29",{"$f":"S$38","v":0},{"$f":"S$39","v":0},{"v":0,"d":"0.000"},{"$f":"S$40","v":{"v":0,"d":"0.0%"}},{"$f":"S$41","v":{"v":0,"d":"0.0%"}},{"$f":"IF($I$1=\"Hy-Line W-36\", Standards!K31, IF($I$1=\"Hy-Line Brown\", Standards!B31, IF($I$1=\"Hy-Line W-80\", Standards!T31, IF($I$1=\"Hy-Line Pink\", Standards!AC31, IF($I$1=\"Hy-Line Silver Brown\", Standards!AL31, IF($I$1=\"Hy-Line Sonia\", Standards!AU31, 0))))))","v":1810},null,{"$f":"IF($I$1=\"Hy-Line W-36\", Standards!M31, IF($I$1=\"Hy-Line Brown\", Standards!D31, IF($I$1=\"Hy-Line W-80\", Standards!V31, IF($I$1=\"Hy-Line Pink\", Standards!AE31, IF($I$1=\"Hy-Line Silver Brown\", Standards!AN31, IF($I$1=\"Hy-Line Sonia\", Standards!AW31, 0))))))","v":1910},10,{"$error":"#N/A"},{"$nulls":6},29,1810,100,1910,1810,{"$error":"#N/A"}]
[16,null,"",{"$nulls":6},{"v":0.03,"d":"0"},{"$error":"#DIV/0!"},null,null,"0–0",{"$f":"COUNTIF($B$5:$B$105,\"<\"&J23)-COUNTIF($B$5:$B110,\"<\"&J22)","v":0},null,"Week 30",{"$f":"T$38","v":0},{"$f":"T$39","v":0},{"v":0,"d":"0.000"},{"$f":"T$40","v":{"v":0,"d":"0.0%"}},{"$f":"T$41","v":{"v":0,"d":"0.0%"}},{"$f":"IF($I$1=\"Hy-Line W-36\", Standards!K32, IF($I$1=\"Hy-Line Brown\", Standards!B32, IF($I$1=\"Hy-Line W-80\", Standards!T32, IF($I$1=\"Hy-Line Pink\", Standards!AC32, IF($I$1=\"Hy-Line Silver Brown\", Standards!AL32, IF($I$1=\"Hy-Line Sonia\", Standards!AU32, 0))))))","v":1820},null,{"$f":"IF($I$1=\"Hy-Line W-36\", Standards!M32, IF($I$1=\"Hy-Line Brown\", Standards!D32, IF($I$1=\"Hy-Line W-80\", Standards!V32, IF($I$1=\"Hy-Line Pink\", Standards!AE32, IF($I$1=\"Hy-Line Silver Brown\", Standards!AN32, IF($I$1=\"Hy-Line Sonia\", Standards!AW32, 0))))))","v":1920},10,{"$error":"#N/A"},{"$nulls":6},30,1820,100,1920,1820,{"$error":"#N/A"}]
[17,null,"",{"$nulls":6},{"v":0.04,"d":"0"},{"$f":"NORMDIST(J21,$J$7,$G$19,FALSE)","v":{"$error":"#DIV/0!"}},null,null,"0–0",{"$f":"COUNTIF($B$5:$B$105,\"<\"&J24)-COUNTIF($B$5:$B111,\"<\"&J23)","v":0},null,"Week 31",{"$f":"U$38","v":0},{"$f":"U$39","v":0},{"v":0,"d":"0.000"},{"$f":"U$40","v":{"v":0,"d":"0.0%"}},{"$f":"U$41","v":{"v":0,"d":"0.0%"}},{"$f":"IF($I$1=\"Hy-Line W-36\", Standards!K33, IF($I$1=\"Hy-Line Brown\", Standards!B33, IF($I$1=\"Hy-Line W-80\", Standards!T33, IF($I$1=\"Hy-Line Pink\", Standards!AC33, IF($I$1=\"Hy-Line Silver Brown\", Standards!AL33, IF($I$1=\"Hy-Line Sonia\", Standards!AU33, 0))))))","v":1830},null,{"$f":"IF($I$1=\"Hy-Line W-36\", Standards!M33, IF($I$1=\"Hy-Line Brown\", Standards!D33, IF($I$1=\"Hy-Line W-80\", Standards!V33, IF($I$1=\"Hy-Line Pink\", Standards!AE33, IF($I$1=\"Hy-Line Silver Brown\", Standards!AN33, IF($I$1=\"Hy-Line Sonia\", Standards!AW33, 0))))))","v":1930},10,{"$error":"#N/A"},{"$nulls":6},31,1830,100,1930,1830,{"$error":"#N/A"}]
[18,null,"",{"$nulls":6},{"v":0.05,"d":"0"},{"$error":"#DIV/0!"},null,null,"0–0",{"$f":"COUNTIF($B$5:$B$105,\"<\"&J25)-COUNTIF($B$5:$B112,\"<\"&J24)","v":0},null,"Week 32",{"$f":"V$38","v":0},{"$f":"V$39","v":0},{"v":0,"d":"0.000"},{"$f":"V$40","v":{"v":0,"d":"0.0%"}},{"$f":"V$41","v":{"v":0,"d":"0.0%"}},{"$f":"IF($I$1=\"Hy-Line W-36\", Standards!K34, IF($I$1=\"Hy-Line Brown\", Standards!B34, IF($I$1=\"Hy-Line W-80\", Standards!T34, IF($I$1=\"Hy-Line Pink\", Standards!AC34, IF($I$1=\"Hy-Line Silver Brown\", Standards!AL34, IF($I$1=\"Hy-Line Sonia\", Standards!AU34, 0))))))","v":1840},null,{"$f":"IF($I$1=\"Hy-Line W-36\", Standards!M34, IF($I$1=\"Hy-Line Brown\", Standards!D34, IF($I$1=\"Hy-Line W-80\", Standards!V34, IF($I$1=\"Hy-Line Pink\", Standards!AE34, IF($I$1=\"Hy-Line Silver Brown\", Standards!AN34, IF($I$1=\"Hy-Line Sonia\", Standards!AW34, 0))))))","v":1930},5,{"$error":"#N/A"},{"$nulls":6},32,1840,90,1930,1840,{"$error":"#N/A"}]
[19,null,"",{"$nulls":6},{"v":0.060000000000000005,"d":"0"},{"$error":"#DIV/0!"},null,null,"0–0",{"$f":"COUNTIF($B$5:$B$105,\"<\"&J26)-COUNTIF($B$5:$B113,\"<\"&J25)","v":0},null,"Week 33",{"$f":"W$38","v":0},{"$f":"W$39","v":0},{"v":0,"d":"0.000"},{"$f":"W$40","v":{"v":0,"d":"0.0%"}},{"$f":"W$41","v":{"v":0,"d":"0.0%"}},{"$f":"IF($I$1=\"Hy-Line W-36\", Standards!K35, IF($I$1=\"Hy-Line Brown\", Standards!B35, IF($I$1=\"Hy-Line W-80\", Standards!T35, IF($I$1=\"Hy-Line Pink\", Standards!AC35, IF($I$1=\"Hy-Line Silver Brown\", Standards!AL35, IF($I$1=\"Hy-Line Sonia\", Standards!AU35, 0))))))","v":1850},null,{"$f":"IF($I$1=\"Hy-Line W-36\", Standards!M35, IF($I$1=\"Hy-Line Brown\", Standards!D35, IF($I$1=\"Hy-Line W-80\", Standards!V35, IF($I$1=\"Hy-Line Pink\", Standards!AE35, IF($I$1=\"Hy-Line Silver Brown\", Standards!AN35, IF($I$1=\"Hy-Line Sonia\", Standards!AW35, 0))))))","v":1940},10,{"$error":"#N/A"},{"$nulls":6},35,1850,90,1940,1850,{"$error":"#N/A"}]
[20,null,"",{"$nulls":6},{"v":0.07,"d":"0"},{"$error":"#DIV/0!"},null,null,"0–0",{"$f":"COUNTIF($B$5:$B$105,\"<\"&J27)-COUNTIF($B$5:$B114,\"<\"&J26)","v":0},null,"Week 34",{"$f":"Y$38","v":0},{"$f":"Y$39","v":0},{"v":0,"d":"0.000"},{"$f":"Y$40","v":{"v":0,"d":"0.0%"}},{"$f":"Y$41","v":{"v":0,"d":"0.0%"}},{"$f":"IF($I$1=\"Hy-Line W-36\", Standards!K36, IF($I$1=\"Hy-Line Brown\", Standards!B36, IF($I$1=\"Hy-Line W-80\", Standards!T36, IF($I$1=\"Hy-Line Pink\", Standards!AC36, IF($I$1=\"Hy-Line Silver Brown\", Standards!AL36, IF($I$1=\"Hy-Line Sonia\", Standards!AU36, 0))))))","v":1850},null,{"$f":"IF($I$1=\"Hy-Line W-36\", Standards!M36, IF($I$1=\"Hy-Line Brown\", Standards!D36, IF($I$1=\"Hy-Line W-80\", Standards!V36, IF($I$1=\"Hy-Line Pink\", Standards!AE36, IF($I$1=\"Hy-Line Silver Brown\", Standards!AN36, IF($I$1=\"Hy-Line Sonia\", Standards!AW36, 0))))))","v":1940},{"$f":"IF(Y24>0, ((W24+Y24)/2)-((W23+Y23)/2), W24-W23)","v":0},{"$f":"IF(S24>0, S24-S23, NA())","v":{"$error":"#N/A"}},{"$nulls":6},40,1850,90,1940,1850,{"$error":"#N/A"}]
[21,null,"",{"$nulls":6},{"v":0.08,"d":"0"},{"$error":"#DIV/0!"},{"$nulls":5},"Week 35",{"$f":"Z$38","v":0},{"$f":"Z$39","v":0},{"v":0,"d":"0.000"},{"$f":"Z$40","v":{"v":0,"d":"0.0%"}},{"$f":"Z$41","v":{"v":0,"d":"0.0%"}},{"$f":"IF($I$1=\"Hy-Line W-36\", Standards!K37, IF($I$1=\"Hy-Line Brown\", Standards!B37, IF($I$1=\"Hy-Line W-80\", Standards!T37, IF($I$1=\"Hy-Line Pink\", Standards!AC37, IF($I$1=\"Hy-Line Silver Brown\", Standards!AL37, IF($I$1=\"Hy-Line Sonia\", Standards!AU37, 0))))))","v":1860},null,{"$f":"IF($I$1=\"Hy-Line W-36\", Standards!M37, IF($I$1=\"Hy-Line Brown\", Standards!D37, IF($I$1=\"Hy-Line W-80\", Standards!V37, IF($I$1=\"Hy-Line Pink\", Standards!AE37, IF($I$1=\"Hy-Line Silver Brown\", Standards!AN37, IF($I$1=\"Hy-Line Sonia\", Standards!AW37, 0))))))","v":1950},10,{"$error":"#N/A"},{"$nulls":6},45,1860,90,1950,1860,{"$error":"#N/A"}]
[22,null,"",{"$nulls":6},{"v":0.09,"d":"0"},{"$error":"#DIV/0!"},null,null,"Total birds",{"$f":"SUM(O14:O25)","v":0},{"$f":"IF(O26<>J5,\"Something is wrong\",\"\")","v":""},"Week 36",{"$f":"AA$38","v":0},{"$f":"AA$39","v":0},{"v":0,"d":"0.000"},{"$f":"AA$40","v":{"v":0,"d":"0.0%"}},{"$f":"AA$41","v":{"v":0,"d":"0.0%"}},{"$f":"IF($I$1=\"Hy-Line W-36\", Standards!K38, IF($I$1=\"Hy-Line Brown\", Standards!B38, IF($I$1=\"Hy-Line W-80\", Standards!T38, IF($I$1=\"Hy-Line Pink\", Standards!AC38, IF($I$1=\"Hy-Line Silver Brown\", Standards!AL38, IF($I$1=\"Hy-Line Sonia\", Standards!AU38, 0))))))","v":1860},null,{"$f":"IF($I$1=\"Hy-Line W-36\", Standards!M38, IF($I$1=\"Hy-Line Brown\", Standards!D38, IF($I$1=\"Hy-Line W-80\", Standards!V38, IF($I$1=\"Hy-Line Pink\", Standards!AE38, IF($I$1=\"Hy-Line Silver Brown\", Standards!AN38, IF($I$1=\"Hy-Line Sonia\", Standards!AW38, 0))))))","v":1950},0,{"$error":"#N/A"},{"$nulls":6},50,1860,90,1950,1860,{"$error":"#N/A"}]
[23,null,"",{"$nulls":6},{"v":0.09999999999999999,"d":"0"},{"$error":"#DIV/0!"},{"$nulls":5},"Week 37",{"$f":"AB$38","v":0},{"$f":"AB$39","v":0},{"v":0,"d":"0.000"},{"$f":"AB$40","v":{"v":0,"d":"0.0%"}},{"$f":"AB$41","v":{"v":0,"d":"0.0%"}},{"$f":"IF($I$1=\"Hy-Line W-36\", Standards!K39, IF($I$1=\"Hy-Line Brown\", Standards!B39, IF($I$1=\"Hy-Line W-80\", Standards!T39, IF($I$1=\"Hy-Line Pink\", Standards!AC39, IF($I$1=\"Hy-Line Silver Brown\", Standards!AL39, IF($I$1=\"Hy-Line Sonia\", Standards!AU39, 0))))))","v":1860},null,{"$f":"IF($I$1=\"Hy-Line W-36\", Standards!M39, IF($I$1=\"Hy-Line Brown\", Standards!D39, IF($I$1=\"Hy-Line W-80\", Standards!V39, IF($I$1=\"Hy-Line Pink\", Standards!AE39, IF($I$1=\"Hy-Line Silver Brown\", Standards!AN39, IF($I$1=\"Hy-Line Sonia\", Standards!AW39, 0))))))","v":1950},0,{"$error":"#N/A"},{"$nulls":6},60,1860,90,1950,1860,{"$error":"#N/A"}]
[24,null,"",{"$nulls":13},"Week 38",{"$f":"AC$38","v":0},{"$f":"AC$39","v":0},{"v":0,"d":"0.000"},{"$f":"AC$40","v":{"v":0,"d":"0.0%"}},{"$f":"AC$41","v":{"v":0,"d":"0.0%"}},{"$f":"IF($I$1=\"Hy-Line W-36\", Standards!K40, IF($I$1=\"Hy-Line Brown\", Standards!B40, IF($I$1=\"Hy-Line W-80\", Standards!T40, IF($I$1=\"Hy-Line Pink\", Standards!AC40, IF($I$1=\"Hy-Line Silver Brown\", Standards!AL40, IF($I$1=\"Hy-Line Sonia\", Standards!AU40, 0))))))","v":1870},null,{"$f":"IF($I$1=\"Hy-Line W-36\", Standards!M40, IF($I$1=\"Hy-Line Brown\", Standards!D40, IF($I$1=\"Hy-Line W-80\", Standards!V40, IF($I$1=\"Hy-Line Pink\", Standards!AE40, IF($I$1=\"Hy-Line Silver Brown\", Standards!AN40, IF($I$1=\"Hy-Line Sonia\", Standards!AW40, 0))))))","v":1950},5,{"$error":"#N/A"},{"$nulls":6},70,1870,80,1950,1870,{"$error":"#N/A"}]
[25,null,"",{"$nulls":13},"Week 39",{"$f":"AD$38","v":0},{"$f":"AD$39","v":0},{"v":0,"d":"0.000"},{"$f":"AD$40","v":{"v":0,"d":"0.0%"}},{"$f":"AD$41","v":{"v":0,"d":"0.0%"}},{"$f":"IF($I$1=\"Hy-Line W-36\", Standards!K41, IF($I$1=\"Hy-Line Brown\", Standards!B41, IF($I$1=\"Hy-Line W-80\", Standards!T41, IF($I$1=\"Hy-Line Pink\", Standards!AC41, IF($I$1=\"Hy-Line Silver Brown\", Standards!AL41, IF($I$1=\"Hy-Line Sonia\", Standards!AU41, 0))))))","v":1870},null,{"$f":"IF($I$1=\"Hy-Line W-36\", Standards!M41, IF($I$1=\"Hy-Line Brown\", Standards!D41, IF($I$1=\"Hy-Line W-80\", Standards!V41, IF($I$1=\"Hy-Line Pink\", Standards!AE41, IF($I$1=\"Hy-Line Silver Brown\", Standards!AN41, IF($I$1=\"Hy-Line Sonia\", Standards!AW41, 0))))))","v":1950},0,{"$error":"#N/A"},{"$nulls":6},80,1870,80,1950,1870,{"$error":"#N/A"}]
[26,null,"",{"$nulls":13},"Week 40",{"$f":"AE$38","v":0},{"$f":"AE$39","v":0},{"v":0,"d":"0.000"},{"$f":"AE$40","v":{"v":0,"d":"0.0%"}},{"$f":"AE$41","v":{"v":0,"d":"0.0%"}},{"$f":"IF($I$1=\"Hy-Line W-36\", Standards!K42, IF($I$1=\"Hy-Line Brown\", Standards!B42, IF($I$1=\"Hy-Line W-80\", Standards!T42, IF($I$1=\"Hy-Line Pink\", Standards!AC42, IF($I$1=\"Hy-Line Silver Brown\", Standards!AL42, IF($I$1=\"Hy-Line Sonia\", Standards!AU42, 0))))))","v":1870},null,{"$f":"IF($I$1=\"Hy-Line W-36\", Standards!M42, IF($I$1=\"Hy-Line Brown\", Standards!D42, IF($I$1=\"Hy-Line W-80\", Standards!V42, IF($I$1=\"Hy-Line Pink\", Standards!AE42, IF($I$1=\"Hy-Line Silver Brown\", Standards!AN42, IF($I$1=\"Hy-Line Sonia\", Standards!AW42, 0))))))","v":1950},0,{"$error":"#N/A"},{"$nulls":6},90,{"$error":"#N/A"},{"$error":"#N/A"},1950,{"$f":"NA()","v":{"$error":"#N/A"}},{"$error":"#N/A"}]
[27,null,"",{"$nulls":4},"NORMINV(rand(),mean,standard_dev)",{"$nulls":8},"Week 41",{"$f":"AF$38","v":0},{"$f":"AF$39","v":0},{"v":0,"d":"0.000"},{"$f":"AF$40","v":{"v":0,"d":"0.0%"}},{"$f":"AF$41","v":{"v":0,"d":"0.0%"}},{"$f":"IF($I$1=\"Hy-Line W-36\", Standards!K43, IF($I$1=\"Hy-Line Brown\", Standards!B43, IF($I$1=\"Hy-Line W-80\", Standards!T43, IF($I$1=\"Hy-Line Pink\", Standards!AC43, IF($I$1=\"Hy-Line Silver Brown\", Standards!AL43, IF($I$1=\"Hy-Line Sonia\", Standards!AU43, 0))))))","v":1870},null,{"$f":"IF($I$1=\"Hy-Line W-36\", Standards!M43, IF($I$1=\"Hy-Line Brown\", Standards!D43, IF($I$1=\"Hy-Line W-80\", Standards!V43, IF($I$1=\"Hy-Line Pink\", Standards!AE43, IF($I$1=\"Hy-Line Silver Brown\", Standards!AN43, IF($I$1=\"Hy-Line Sonia\", Standards!AW43, 0))))))","v":1950},0,{"$error":"#N/A"},{"$nulls":6},100,{"$error":"#N/A"},{"$error":"#N/A"},1950,{"$f":"NA()","v":{"$error":"#N/A"}},{"$error":"#N/A"}]
[28,null,"",{"$nulls":13},"Week 42",{"$f":"AG$38","v":0},{"$f":"AG$39","v":0},{"v":0,"d":"0.000"},{"$f":"AG$40","v":{"v":0,"d":"0.0%"}},{"$f":"AG$41","v":{"v":0,"d":"0.0%"}},{"$f":"IF($I$1=\"Hy-Line W-36\", Standards!K44, IF($I$1=\"Hy-Line Brown\", Standards!B44, IF($I$1=\"Hy-Line W-80\", Standards!T44, IF($I$1=\"Hy-Line Pink\", Standards!AC44, IF($I$1=\"Hy-Line Silver Brown\", Standards!AL44, IF($I$1=\"Hy-Line Sonia\", Standards!AU44, 0))))))","v":1870},null,{"$f":"IF($I$1=\"Hy-Line W-36\", Standards!M44, IF($I$1=\"Hy-Line Brown\", Standards!D44, IF($I$1=\"Hy-Line W-80\", Standards!V44, IF($I$1=\"Hy-Line Pink\", Standards!AE44, IF($I$1=\"Hy-Line Silver Brown\", Standards!AN44, IF($I$1=\"Hy-Line Sonia\", Standards!AW44, 0))))))","v":1950},0,{"$error":"#N/A"},{"$nulls":6},110,{"$error":"#N/A"},{"$error":"#N/A"},1950,{"$f":"NA()","v":{"$error":"#N/A"}},{"$error":"#N/A"}]
[29,null,""]
[30,null,""]
[31,null,""]
[32,null,"","Body Weights - copy and \"paste special\" data values into column B for each week to obtain graphs"]
[33,null,"","Bird #","Week 15","Week 16","Week 17","Week 18","Week 19","Week 20","Week 21","Week 22","Week 23","Week 24","Week 25","Week 26","Week 27","Week 28","Week 29","Week 30","Week 31","Week 32","Week 33",null,"Week 34","Week 35","Week 36","Week 37","Week 38","Week 39","Week 40","Week 41","Week 42"]
[34,null,"","Count",{"$f":"COUNTIF(E42:E141, \">0\")","v":0},{"$f":"COUNTIF(F42:F141, \">0\")","v":0},0,0,0,0,0,0,0,0,0,0,0,0,0,0,0,0,0,null,0,0,0,0,0,0,0,0,0]
[35,null,"","Average",{"$f":"IFERROR(AVERAGE(E42:E141), 0)","v":0},{"$f":"IFERROR(AVERAGE(F42:F141), 0)","v":0},0,0,0,0,0,0,0,0,0,0,0,0,0,0,0,0,0,null,0,0,0,0,0,0,0,0,0]
[36,null,"","Uniformity",{"$f":"IFERROR((E38-E144)/E38, 0)","v":{"v":0,"d":"0.0%"}},{"$f":"IFERROR((F38-F144)/F38, 0)","v":{"v":0,"d":"0.0%"}},{"v":0,"d":"0.0%"},{"v":0,"d":"0.0%"},{"v":0,"d":"0.0%"},{"v":0,"d":"0.0%"},{"v":0,"d":"0.0%"},{"v":0,"d":"0.0%"},{"v":0,"d":"0.0%"},{"v":0,"d":"0.0%"},{"v":0,"d":"0.0%"},{"v":0,"d":"0.0%"},{"v":0,"d":"0.0%"},{"v":0,"d":"0.0%"},{"v":0,"d":"0.0%"},{"v":0,"d":"0.0%"},{"v":0,"d":"0.0%"},{"v":0,"d":"0.0%"},{"v":0,"d":"0.0%"},null,{"v":0,"d":"0.0%"},{"v":0,"d":"0.0%"},{"v":0,"d":"0.0%"},{"v":0,"d":"0.0%"},{"v":0,"d":"0.0%"},{"v":0,"d":"0.0%"},{"v":0,"d":"0.0%"},{"v":0,"d":"0.0%"},{"v":0,"d":"0.0%"}]
[37,null,"","CV%",{"$f":"IFERROR(STDEV(E42:E141)/E39, 0)","v":{"v":0,"d":"0.0%"}},{"$f":"IFERROR(STDEV(F42:F141)/F39, 0)","v":{"v":0,"d":"0.0%"}},{"v":0,"d":"0.0%"},{"v":0,"d":"0.0%"},{"v":0,"d":"0.0%"},{"v":0,"d":"0.0%"},{"v":0,"d":"0.0%"},{"v":0,"d":"0.0%"},{"v":0,"d":"0.0%"},{"v":0,"d":"0.0%"},{"v":0,"d":"0.0%"},{"v":0,"d":"0.0%"},{"v":0,"d":"0.0%"},{"v":0,"d":"0.0%"},{"v":0,"d":"0.0%"},{"v":0,"d":"0.0%"},{"v":0,"d":"0.0%"},{"v":0,"d":"0.0%"},{"v":0,"d":"0.0%"},null,{"v":0,"d":"0.0%"},{"v":0,"d":"0.0%"},{"v":0,"d":"0.0%"},{"v":0,"d":"0.0%"},{"v":0,"d":"0.0%"},{"v":0,"d":"0.0%"},{"v":0,"d":"0.0%"},{"v":0,"d":"0.0%"},{"v":0,"d":"0.0%"}]
[38,null,"",1]
[39,null,"",2]
[40,null,"",3]
[41,null,"",4]
[42,null,"",5]
[43,null,"",6]
[44,null,"",7]
[45,null,"",8]
[46,null,"",9]
[47,null,"",10]
[48,null,"",11]
[49,null,"",12]
[50,null,"",13]
[51,null,"",14]
[52,null,"",15]
[53,null,"",16]
[54,null,"",17]
[55,null,"",18]
[56,null,"",19]
[57,null,"",20]
[58,null,"",21]
[59,null,"",22]
[60,null,"",23]
[61,null,"",24]
[62,null,"",25]
[63,null,"",26]
[64,null,"",27]
[65,null,{"$f":"IF(B69=0,\"\",IF(B69=\"\",\"\",IF(B69>$J$8,\"High\",IF(B69<$J$9,\"Low\",\"\"))))","v":""},28]
[66,null,"",29]
[{"$f":"1+A70","v":67},null,"",30]
[68,null,"",31]
[69,null,"",32]
[70,null,"",33]
[71,null,"",34]
[72,null,"",35]
[73,null,"",36]
[74,null,"",37]
[75,null,"",38]
[76,null,"",39]
[77,null,"",40]
[78,null,"",41]
[79,null,"",42]
[80,null,"",43]
[81,null,"",44]
[82,null,"",45]
[83,null,"",46]
[84,null,"",47]
[85,null,"",48]
[86,null,"",49]
[87,null,"",50]
[88,null,"",51]
[89,null,"",52]
[90,null,"",53]
[91,null,"",54]
[92,null,"",55]
[93,null,"",56]
[94,null,"",57]
[95,null,"",58]
[96,null,"",59]
[97,null,"",60]
[98,null,"",61]
[99,null,"",62]
[100,null,"",63]
[{"$nulls":3},64]
[{"$nulls":3},65]
[{"$nulls":3},66]
[{"$nulls":3},67]
[{"$nulls":3},68]
[{"$nulls":3},69]
[{"$nulls":3},70]
[{"$nulls":3},71]
[{"$nulls":3},72]
[{"$nulls":3},73]
[{"$nulls":3},74]
[{"$nulls":3},75]
[{"$nulls":3},76]
[{"$nulls":3},77]
[{"$nulls":3},78]
[{"$nulls":3},79]
[{"$nulls":3},80]
[{"$nulls":3},81]
[{"$nulls":3},82]
[{"$nulls":3},83]
[{"$nulls":3},84]
[{"$nulls":3},85]
[{"$nulls":3},86]
[{"$nulls":3},87]
[{"$nulls":3},88]
[{"$nulls":3},89]
[{"$nulls":3},90]
[{"$nulls":3},91]
[{"$nulls":3},92]
[{"$nulls":3},93]
[{"$nulls":3},94]
[{"$nulls":3},95]
[{"$nulls":3},96]
[{"$nulls":3},97]
[{"$nulls":3},98]
[{"$nulls":3},99]
[{"$nulls":3},100]
[{"$nulls":4},{"$f":"ROUND(E39*1.1, 3)","v":0},{"$f":"ROUND(F39*1.1, 3)","v":0},0,0,0,0,0,0,0,0,0,0,0,0,0,0,null,0,0]
[{"$nulls":4},{"$f":"ROUND(E39*0.9, 3)","v":0},{"$f":"ROUND(F39*0.9, 3)","v":0},0,0,0,0,0,0,0,0,0,0,0,0,0,0,null,0,0]
[{"$nulls":4},{"$f":"COUNTIF(E42:E141, \">\"&E142)+COUNTIF(E42:E141, \"<\"&E143)","v":0},{"$f":"COUNTIF(F42:F141, \">\"&F142)+COUNTIF(F42:F141, \"<\"&F143)","v":0},0,0,0,0,0,0,0,0,0,0,0,0,0,0,null,0,0]

{"sheet":"Layer Body Weight (kg)","index":1,"n_rows":144,"n_cols":39,"rows_kept":144,"merged":[[0,8,0,10],[2,25,2,26],[35,3,35,24]]}
["Enter values in high-lighted yellow cells -- all other cells are calculated",{"$nulls":6},"Breed:","Hy-Line Brown"]
[]
[null,"Body weight. if there is no data, leave cells empty—do not enter a zero (0).",{"$nulls":14},"Standards will populate with breed selection",{"$nulls":5},"Breed",null,"Standards","Weekly wt. gain"]
[null,"kg","Outside range",{"$nulls":14},"Count","kg","g","Unif %","CV%","Min",null,"Max","Standard","Actual",{"$nulls":7},"Hidden","Standard","Max","Min","Actual"]
[1,null,{"$f":"IF(B5=0,\"\",IF(B5=\"\",\"\",IF(B5>$J$8,\"High\",IF(B5<$J$9,\"Low\",\"\"))))","v":""},null,"Number of birds weighed",{"$nulls":4},{"$f":"COUNTIF(B5:B104,\">0\")","v":0},{"$nulls":6},"Week 15",{"$f":"E$38","v":0},{"$f":"E$39","v":{"v":0,"d":"0.000"}},{"$f":"S5*1000","v":0},{"$f":"E$40","v":{"v":0,"d":"0.0%"}},{"$f":"E$41","v":{"v":0,"d":"0.0%"}},{"$f":"IF($I$1=\"Hy-Line W-36\", Standards!O17, IF($I$1=\"Hy-Line Brown\", Standards!F17, IF($I$1=\"Hy-Line W-80\", Standards!X17, IF($I$1=\"Hy-Line Pink\", Standards!AG17, IF($I$1=\"Hy-Line Silver Brown\", Standards!AP17, IF($I$1=\"Hy-Line Sonia\", Standards!AY17, 0))))))","v":{"v":1.29,"d":"1.290"}},{"$f":"IF($I$1=\"Hy-Line W-36\", Standards!P17, IF($I$1=\"Hy-Line Brown\", Standards!G17, IF($I$1=\"Hy-Line W-80\", Standards!Y17, IF($I$1=\"Hy-Line Pink\", Standards!AH17, IF($I$1=\"Hy-Line Silver Brown\", Standards!AQ17, IF($I$1=\"Hy-Line Sonia\", Standards!AZ17, 0))))))","v":"–"},{"$f":"IF($I$1=\"Hy-Line W-36\", Standards!Q17, IF($I$1=\"Hy-Line Brown\", Standards!H17, IF($I$1=\"Hy-Line W-80\", Standards!Z17, IF($I$1=\"Hy-Line Pink\", Standards!AI17, IF($I$1=\"Hy-Line Silver Brown\", Standards!AR17, IF($I$1=\"Hy-Line Sonia\", Standards!BA17, 0))))))","v":{"v":1.36,"d":"1.360"}},null,{"$f":"IF(S5>0, S5, NA())","v":{"$error":"#N/A"}},{"$nulls":7},{"$f":"IF(Y5>0, AL5, NA())","v":{"v":1.29,"d":"1.290"}},{"$f":"IF(Y5>0, AK5-AL5, NA())","v":{"v":0.07000000000000006,"d":"0.070"}},{"$f":"IF(Y5>0, Y5, NA())","v":{"v":1.36,"d":"1.360"}},{"$f":"W5","v":{"v":1.29,"d":"1.290"}},{"$f":"IF(S5>0, S5, NA())","v":{"$error":"#N/A"}}]
[{"$f":"1+A5","v":2},null,"",{"$nulls":13},"Week 16",{"$f":"F$38","v":0},{"$f":"F$39","v":{"v":0,"d":"0.000"}},{"$f":"S6*1000","v":0},{"$f":"F$40","v":{"v":0,"d":"0.0%"}},{"$f":"F$41","v":{"v":0,"d":"0.0%"}},{"$f":"IF($I$1=\"Hy-Line W-36\", Standards!O18, IF($I$1=\"Hy-Line Brown\", Standards!F18, IF($I$1=\"Hy-Line W-80\", Standards!X18, IF($I$1=\"Hy-Line Pink\", Standards!AG18, IF($I$1=\"Hy-Line Silver Brown\", Standards!AP18, IF($I$1=\"Hy-Line Sonia\", Standards!AY18, 0))))))","v":{"v":1.36,"d":"1.360"}},{"$f":"IF($I$1=\"Hy-Line W-36\", Standards!P18, IF($I$1=\"Hy-Line Brown\", Standards!G18, IF($I$1=\"Hy-Line W-80\", Standards!Y18, IF($I$1=\"Hy-Line Pink\", Standards!AH18, IF($I$1=\"Hy-Line Silver Brown\", Standards!AQ18, IF($I$1=\"Hy-Line Sonia\", Standards!AZ18, 0))))))","v":"–"},{"$f":"IF($I$1=\"Hy-Line W-36\", Standards!Q18, IF($I$1=\"Hy-Line Brown\", Standards!H18, IF($I$1=\"Hy-Line W-80\", Standards!Z18, IF($I$1=\"Hy-Line Pink\", Standards!AI18, IF($I$1=\"Hy-Line Silver Brown\", Standards!AR18, IF($I$1=\"Hy-Line Sonia\", Standards!BA18, 0))))))","v":{"v":1.43,"d":"1.430"}},{"$f":"IF(Y6>0, ((W6+Y6)/2)-((W5+Y5)/2), W6-W5)","v":{"v":0.06999999999999984,"d":"0.070"}},{"$f":"IF(S6>0, S6-S5, NA())","v":{"$error":"#N/A"}},{"$nulls":7},{"$f":"IF(Y6>0, AL6, NA())","v":{"v":1.36,"d":"1.360"}},{"$f":"IF(Y6>0, AK6-AL6, NA())","v":{"v":0.06999999999999984,"d":"0.070"}},{"$f":"IF(Y6>0, Y6, NA())","v":{"v":1.43,"d":"1.430"}},{"$f":"W6","v":{"v":1.36,"d":"1.360"}},{"$f":"IF(S6>0, S6, NA())","v":{"$error":"#N/A"}}]
[{"$f":"1+A6","v":3},null,"",null,"Mean body weight",{"$nulls":4},{"$f":"IFERROR(AVERAGE(B5:B104), 0)","v":{"v":0,"d":"0.000"}},"kg",{"$nulls":5},"Week 17",{"$f":"G$38","v":0},{"$f":"G$39","v":{"v":0,"d":"0.000"}},0,{"$f":"G$40","v":{"v":0,"d":"0.0%"}},{"$f":"G$41","v":{"v":0,"d":"0.0%"}},{"$f":"IF($I$1=\"Hy-Line W-36\", Standards!O19, IF($I$1=\"Hy-Line Brown\", Standards!F19, IF($I$1=\"Hy-Line W-80\", Standards!X19, IF($I$1=\"Hy-Line Pink\", Standards!AG19, IF($I$1=\"Hy-Line Silver Brown\", Standards!AP19, IF($I$1=\"Hy-Line Sonia\", Standards!AY19, 0))))))","v":{"v":1.42,"d":"1.420"}},{"$f":"IF($I$1=\"Hy-Line W-36\", Standards!P19, IF($I$1=\"Hy-Line Brown\", Standards!G19, IF($I$1=\"Hy-Line W-80\", Standards!Y19, IF($I$1=\"Hy-Line Pink\", Standards!AH19, IF($I$1=\"Hy-Line Silver Brown\", Standards!AQ19, IF($I$1=\"Hy-Line Sonia\", Standards!AZ19, 0))))))","v":"–"},{"$f":"IF($I$1=\"Hy-Line W-36\", Standards!Q19, IF($I$1=\"Hy-Line Brown\", Standards!H19, IF($I$1=\"Hy-Line W-80\", Standards!Z19, IF($I$1=\"Hy-Line Pink\", Standards!AI19, IF($I$1=\"Hy-Line Silver Brown\", Standards!AR19, IF($I$1=\"Hy-Line Sonia\", Standards!BA19, 0))))))","v":{"v":1.5,"d":"1.500"}},{"$f":"IF(Y7>0, ((W7+Y7)/2)-((W6+Y6)/2), W7-W6)","v":{"v":0.06499999999999995,"d":"0.065"}},{"$f":"IF(S7>0, S7-S6, NA())","v":{"$error":"#N/A"}},{"$nulls":7},{"v":1.42,"d":"1.420"},{"v":0.08000000000000007,"d":"0.080"},{"v":1.5,"d":"1.500"},{"v":1.42,"d":"1.420"},{"$error":"#N/A"}]
[4,null,"",null,"Mean + 10%",{"$nulls":4},{"$f":"IF(J7>0, ROUND(J7*1.1,3), 0)","v":{"v":0,"d":"0.000"}},"kg",{"$nulls":5},"Week 18",{"$f":"H$38","v":0},{"$f":"H$39","v":{"v":0,"d":"0.000"}},0,{"$f":"H$40","v":{"v":0,"d":"0.0%"}},{"$f":"H$41","v":{"v":0,"d":"0.0%"}},{"$f":"IF($I$1=\"Hy-Line W-36\", Standards!O20, IF($I$1=\"Hy-Line Brown\", Standards!F20, IF($I$1=\"Hy-Line W-80\", Standards!X20, IF($I$1=\"Hy-Line Pink\", Standards!AG20, IF($I$1=\"Hy-Line Silver Brown\", Standards!AP20, IF($I$1=\"Hy-Line Sonia\", Standards!AY20, 0))))))","v":{"v":1.49,"d":"1.490"}},{"$f":"IF($I$1=\"Hy-Line W-36\", Standards!P20, IF($I$1=\"Hy-Line Brown\", Standards!G20, IF($I$1=\"Hy-Line W-80\", Standards!Y20, IF($I$1=\"Hy-Line Pink\", Standards!AH20, IF($I$1=\"Hy-Line Silver Brown\", Standards!AQ20, IF($I$1=\"Hy-Line Sonia\", Standards!AZ20, 0))))))","v":"–"},{"$f":"IF($I$1=\"Hy-Line W-36\", Standards!Q20, IF($I$1=\"Hy-Line Brown\", Standards!H20, IF($I$1=\"Hy-Line W-80\", Standards!Z20, IF($I$1=\"Hy-Line Pink\", Standards!AI20, IF($I$1=\"Hy-Line Silver Brown\", Standards!AR20, IF($I$1=\"Hy-Line Sonia\", Standards!BA20, 0))))))","v":{"v":1.61,"d":"1.610"}},{"v":0.09000000000000008,"d":"0.090"},{"$error":"#N/A"},{"$nulls":7},{"v":1.49,"d":"1.490"},{"v":0.1200000000000001,"d":"0.120"},{"v":1.61,"d":"1.610"},{"v":1.49,"d":"1.490"},{"$error":"#N/A"}]
[5,null,"",null,"Mean – 10%",{"$nulls":4},{"$f":"ROUND(J7*0.9,3)","v":{"v":0,"d":"0.000"}},"kg",{"$nulls":5},"Week 19",{"$f":"I$38","v":0},{"$f":"I$39","v":{"v":0,"d":"0.000"}},0,{"$f":"I$40","v":{"v":0,"d":"0.0%"}},{"$f":"I$41","v":{"v":0,"d":"0.0%"}},{"$f":"IF($I$1=\"Hy-Line W-36\", Standards!O21, IF($I$1=\"Hy-Line Brown\", Standards!F21, IF($I$1=\"Hy-Line W-80\", Standards!X21, IF($I$1=\"Hy-Line Pink\", Standards!AG21, IF($I$1=\"Hy-Line Silver Brown\", Standards!AP21, IF($I$1=\"Hy-Line Sonia\", Standards!AY21, 0))))))","v":{"v":1.59,"d":"1.590"}},{"$f":"IF($I$1=\"Hy-Line W-36\", Standards!P21, IF($I$1=\"Hy-Line Brown\", Standards!G21, IF($I$1=\"Hy-Line W-80\", Standards!Y21, IF($I$1=\"Hy-Line Pink\", Standards!AH21, IF($I$1=\"Hy-Line Silver Brown\", Standards!AQ21, IF($I$1=\"Hy-Line Sonia\", Standards!AZ21, 0))))))","v":"–"},{"$f":"IF($I$1=\"Hy-Line W-36\", Standards!Q21, IF($I$1=\"Hy-Line Brown\", Standards!H21, IF($I$1=\"Hy-Line W-80\", Standards!Z21, IF($I$1=\"Hy-Line Pink\", Standards!AI21, IF($I$1=\"Hy-Line Silver Brown\", Standards!AR21, IF($I$1=\"Hy-Line Sonia\", Standards!BA21, 0))))))","v":{"v":1.7,"d":"1.700"}},{"v":0.09499999999999997,"d":"0.095"},{"$error":"#N/A"},{"$nulls":7},{"v":1.59,"d":"1.590"},{"v":0.10999999999999988,"d":"0.110"},{"v":1.7,"d":"1.700"},{"v":1.59,"d":"1.590"},{"$error":"#N/A"}]
[6,null,"",{"$nulls":13},"Week 20",{"$f":"J$38","v":0},{"$f":"J$39","v":{"v":0,"d":"0.000"}},0,{"$f":"J$40","v":{"v":0,"d":"0.0%"}},{"$f":"J$41","v":{"v":0,"d":"0.0%"}},{"$f":"IF($I$1=\"Hy-Line W-36\", Standards!O22, IF($I$1=\"Hy-Line Brown\", Standards!F22, IF($I$1=\"Hy-Line W-80\", Standards!X22, IF($I$1=\"Hy-Line Pink\", Standards!AG22, IF($I$1=\"Hy-Line Silver Brown\", Standards!AP22, IF($I$1=\"Hy-Line Sonia\", Standards!AY22, 0))))))","v":{"v":1.65,"d":"1.650"}},{"$f":"IF($I$1=\"Hy-Line W-36\", Standards!P22, IF($I$1=\"Hy-Line Brown\", Standards!G22, IF($I$1=\"Hy-Line W-80\", Standards!Y22, IF($I$1=\"Hy-Line Pink\", Standards!AH22, IF($I$1=\"Hy-Line Silver Brown\", Standards!AQ22, IF($I$1=\"Hy-Line Sonia\", Standards!AZ22, 0))))))","v":"–"},{"$f":"IF($I$1=\"Hy-Line W-36\", Standards!Q22, IF($I$1=\"Hy-Line Brown\", Standards!H22, IF($I$1=\"Hy-Line W-80\", Standards!Z22, IF($I$1=\"Hy-Line Pink\", Standards!AI22, IF($I$1=\"Hy-Line Silver Brown\", Standards!AR22, IF($I$1=\"Hy-Line Sonia\", Standards!BA22, 0))))))","v":{"v":1.77,"d":"1.770"}},{"v":0.06499999999999995,"d":"0.065"},{"$error":"#N/A"},{"$nulls":7},{"v":1.65,"d":"1.650"},{"v":0.1200000000000001,"d":"0.120"},{"v":1.77,"d":"1.770"},{"v":1.65,"d":"1.650"},{"$error":"#N/A"}]
[7,null,"",null,{"$f":"CONCATENATE(\"Number of birds outside \",FIXED(J8,3),\" and \",FIXED(J9,3),\" kg\")","v":"Number of birds outside 0.000 and 0.000 kg"},{"$nulls":4},{"$f":"COUNTIF(C5:C104,\"High\")+COUNTIF(C5:C104,\"Low\")","v":0},{"$nulls":6},"Week 21",{"$f":"K$38","v":0},{"$f":"K$39","v":{"v":0,"d":"0.000"}},0,{"$f":"K$40","v":{"v":0,"d":"0.0%"}},{"$f":"K$41","v":{"v":0,"d":"0.0%"}},{"$f":"IF($I$1=\"Hy-Line W-36\", Standards!O23, IF($I$1=\"Hy-Line Brown\", Standards!F23, IF($I$1=\"Hy-Line W-80\", Standards!X23, IF($I$1=\"Hy-Line Pink\", Standards!AG23, IF($I$1=\"Hy-Line Silver Brown\", Standards!AP23, IF($I$1=\"Hy-Line Sonia\", Standards!AY23, 0))))))","v":{"v":1.7,"d":"1.700"}},{"$f":"IF($I$1=\"Hy-Line W-36\", Standards!P23, IF($I$1=\"Hy-Line Brown\", Standards!G23, IF($I$1=\"Hy-Line W-80\", Standards!Y23, IF($I$1=\"Hy-Line Pink\", Standards!AH23, IF($I$1=\"Hy-Line Silver Brown\", Standards!AQ23, IF($I$1=\"Hy-Line Sonia\", Standards!AZ23, 0))))))","v":"–"},{"$f":"IF($I$1=\"Hy-Line W-36\", Standards!Q23, IF($I$1=\"Hy-Line Brown\", Standards!H23, IF($I$1=\"Hy-Line W-80\", Standards!Z23, IF($I$1=\"Hy-Line Pink\", Standards!AI23, IF($I$1=\"Hy-Line Silver Brown\", Standards!AR23, IF($I$1=\"Hy-Line Sonia\", Standards!BA23, 0))))))","v":{"v":1.81,"d":"1.810"}},{"v":0.04499999999999993,"d":"0.045"},{"$error":"#N/A"},{"$nulls":7},{"v":1.7,"d":"1.700"},{"v":0.1100000000000001,"d":"0.110"},{"v":1.81,"d":"1.810"},{"v":1.7,"d":"1.700"},{"$error":"#N/A"}]
[8,null,"",null,{"$f":"CONCATENATE(\"Uniformity = ([\",J5,\"-\",J11,\"]/\",J5,\") x 100 = \")","v":"Uniformity = ([0-0]/0) x 100 = "},{"$nulls":4},{"$f":"IFERROR(ROUND(((J5-J11)/J5)*100,0), 0)","v":0},"%",{"$nulls":5},"Week 22",{"$f":"L$38","v":0},{"$f":"L$39","v":{"v":0,"d":"0.000"}},0,{"$f":"L$40","v":{"v":0,"d":"0.0%"}},{"$f":"L$41","v":{"v":0,"d":"0.0%"}},{"$f":"IF($I$1=\"Hy-Line W-36\", Standards!O24, IF($I$1=\"Hy-Line Brown\", Standards!F24, IF($I$1=\"Hy-Line W-80\", Standards!X24, IF($I$1=\"Hy-Line Pink\", Standards!AG24, IF($I$1=\"Hy-Line Silver Brown\", Standards!AP24, IF($I$1=\"Hy-Line Sonia\", Standards!AY24, 0))))))","v":{"v":1.75,"d":"1.750"}},{"$f":"IF($I$1=\"Hy-Line W-36\", Standards!P24, IF($I$1=\"Hy-Line Brown\", Standards!G24, IF($I$1=\"Hy-Line W-80\", Standards!Y24, IF($I$1=\"Hy-Line Pink\", Standards!AH24, IF($I$1=\"Hy-Line Silver Brown\", Standards!AQ24, IF($I$1=\"Hy-Line Sonia\", Standards!AZ24, 0))))))","v":"–"},{"$f":"IF($I$1=\"Hy-Line W-36\", Standards!Q24, IF($I$1=\"Hy-Line Brown\", Standards!H24, IF($I$1=\"Hy-Line W-80\", Standards!Z24, IF($I$1=\"Hy-Line Pink\", Standards!AI24, IF($I$1=\"Hy-Line Silver Brown\", Standards!AR24, IF($I$1=\"Hy-Line Sonia\", Standards!BA24, 0))))))","v":{"v":1.85,"d":"1.850"}},{"v":0.04500000000000015,"d":"0.045"},{"$error":"#N/A"},{"$nulls":7},{"v":1.75,"d":"1.750"},{"v":0.10000000000000009,"d":"0.100"},{"v":1.85,"d":"1.850"},{"v":1.75,"d":"1.750"},{"$error":"#N/A"}]
[9,null,"",null,{"$f":"IFERROR(CONCATENATE(\"CV = (\",TEXT(G19, \"#.##\"),\"/\",TEXT(J7,\"#.###\"),\") x 100 = \"), \"CV%\")","v":"CV%"},{"$nulls":4},{"$f":"IFERROR((G19/J7)*100, 0)","v":{"v":0,"d":"0.0"}},"%",null,null,"Body weight Range","Count",null,"Week 23",{"$f":"M$38","v":0},{"$f":"M$39","v":{"v":0,"d":"0.000"}},0,{"$f":"M$40","v":{"v":0,"d":"0.0%"}},{"$f":"M$41","v":{"v":0,"d":"0.0%"}},{"$f":"IF($I$1=\"Hy-Line W-36\", Standards!O25, IF($I$1=\"Hy-Line Brown\", Standards!F25, IF($I$1=\"Hy-Line W-80\", Standards!X25, IF($I$1=\"Hy-Line Pink\", Standards!AG25, IF($I$1=\"Hy-Line Silver Brown\", Standards!AP25, IF($I$1=\"Hy-Line Sonia\", Standards!AY25, 0))))))","v":{"v":1.78,"d":"1.780"}},{"$f":"IF($I$1=\"Hy-Line W-36\", Standards!P25, IF($I$1=\"Hy-Line Brown\", Standards!G25, IF($I$1=\"Hy-Line W-80\", Standards!Y25, IF($I$1=\"Hy-Line Pink\", Standards!AH25, IF($I$1=\"Hy-Line Silver Brown\", Standards!AQ25, IF($I$1=\"Hy-Line Sonia\", Standards!AZ25, 0))))))","v":"–"},{"$f":"IF($I$1=\"Hy-Line W-36\", Standards!Q25, IF($I$1=\"Hy-Line Brown\", Standards!H25, IF($I$1=\"Hy-Line W-80\", Standards!Z25, IF($I$1=\"Hy-Line Pink\", Standards!AI25, IF($I$1=\"Hy-Line Silver Brown\", Standards!AR25, IF($I$1=\"Hy-Line Sonia\", Standards!BA25, 0))))))","v":{"v":1.88,"d":"1.880"}},{"v":0.030000000000000027,"d":"0.030"},{"$error":"#N/A"},{"$nulls":7},{"v":1.78,"d":"1.780"},{"v":0.09999999999999987,"d":"0.100"},{"v":1.88,"d":"1.880"},{"v":1.78,"d":"1.780"},{"$error":"#N/A"}]
[10,null,"",{"$nulls":13},"Week 24",{"$f":"N$38","v":0},{"$f":"N$39","v":{"v":0,"d":"0.000"}},0,{"$f":"N$40","v":{"v":0,"d":"0.0%"}},{"$f":"N$41","v":{"v":0,"d":"0.0%"}},{"$f":"IF($I$1=\"Hy-Line W-36\", Standards!O26, IF($I$1=\"Hy-Line Brown\", Standards!F26, IF($I$1=\"Hy-Line W-80\", Standards!X26, IF($I$1=\"Hy-Line Pink\", Standards!AG26, IF($I$1=\"Hy-Line Silver Brown\", Standards!AP26, IF($I$1=\"Hy-Line Sonia\", Standards!AY26, 0))))))","v":{"v":1.81,"d":"1.810"}},{"$f":"IF($I$1=\"Hy-Line W-36\", Standards!P26, IF($I$1=\"Hy-Line Brown\", Standards!G26, IF($I$1=\"Hy-Line W-80\", Standards!Y26, IF($I$1=\"Hy-Line Pink\", Standards!AH26, IF($I$1=\"Hy-Line Silver Brown\", Standards!AQ26, IF($I$1=\"Hy-Line Sonia\", Standards!AZ26, 0))))))","v":"–"},{"$f":"IF($I$1=\"Hy-Line W-36\", Standards!Q26, IF($I$1=\"Hy-Line Brown\", Standards!H26, IF($I$1=\"Hy-Line W-80\", Standards!Z26, IF($I$1=\"Hy-Line Pink\", Standards!AI26, IF($I$1=\"Hy-Line Silver Brown\", Standards!AR26, IF($I$1=\"Hy-Line Sonia\", Standards!BA26, 0))))))","v":{"v":1.91,"d":"1.910"}},{"v":0.029999999999999805,"d":"0.030"},{"$error":"#N/A"},{"$nulls":7},{"v":1.81,"d":"1.810"},{"v":0.09999999999999987,"d":"0.100"},{"v":1.91,"d":"1.910"},{"v":1.81,"d":"1.810"},{"$error":"#N/A"}]
[11,null,"",null,null,"Min",{"$f":"MIN(B5:B104)-0.00000001","v":{"v":-1E-8,"d":"-0.000"}},{"$f":"ROUNDDOWN(G15,1)","v":{"v":0,"d":"0.000"}},null,"Normal distr. Curve",{"$nulls":3},{"$f":"CONCATENATE(FIXED(H15,2),\"–\",FIXED(J18,2))","v":"0.00–0.01"},{"$f":"COUNTIF($B$5:$B$105,\"<\"&J18)-COUNTIF($B$5:$B105,\"<\"&J17)","v":0},null,"Week 25",{"$f":"O$38","v":0},{"$f":"O$39","v":{"v":0,"d":"0.000"}},0,{"$f":"O$40","v":{"v":0,"d":"0.0%"}},{"$f":"O$41","v":{"v":0,"d":"0.0%"}},{"$f":"IF($I$1=\"Hy-Line W-36\", Standards!O27, IF($I$1=\"Hy-Line Brown\", Standards!F27, IF($I$1=\"Hy-Line W-80\", Standards!X27, IF($I$1=\"Hy-Line Pink\", Standards!AG27, IF($I$1=\"Hy-Line Silver Brown\", Standards!AP27, IF($I$1=\"Hy-Line Sonia\", Standards!AY27, 0))))))","v":{"v":1.82,"d":"1.820"}},{"$f":"IF($I$1=\"Hy-Line W-36\", Standards!P27, IF($I$1=\"Hy-Line Brown\", Standards!G27, IF($I$1=\"Hy-Line W-80\", Standards!Y27, IF($I$1=\"Hy-Line Pink\", Standards!AH27, IF($I$1=\"Hy-Line Silver Brown\", Standards!AQ27, IF($I$1=\"Hy-Line Sonia\", Standards!AZ27, 0))))))","v":"–"},{"$f":"IF($I$1=\"Hy-Line W-36\", Standards!Q27, IF($I$1=\"Hy-Line Brown\", Standards!H27, IF($I$1=\"Hy-Line W-80\", Standards!Z27, IF($I$1=\"Hy-Line Pink\", Standards!AI27, IF($I$1=\"Hy-Line Silver Brown\", Standards!AR27, IF($I$1=\"Hy-Line Sonia\", Standards!BA27, 0))))))","v":{"v":1.93,"d":"1.930"}},{"v":0.015000000000000124,"d":"0.015"},{"$error":"#N/A"},{"$nulls":7},{"v":1.82,"d":"1.820"},{"v":0.10999999999999988,"d":"0.110"},{"v":1.93,"d":"1.930"},{"v":1.82,"d":"1.820"},{"$error":"#N/A"}]
[12,null,"",null,null,"Max",{"$f":"MAX(B5:B104)+0.00000001","v":{"v":1E-8,"d":"0.000"}},{"$f":"ROUNDUP(G16,1)","v":{"v":0.1,"d":"0.100"}},null,"x","y",null,null,{"$f":"CONCATENATE(FIXED(J18,2),\"–\",FIXED(J19,2))","v":"0.01–0.02"},{"$f":"COUNTIF($B$5:$B$105,\"<\"&J19)-COUNTIF($B$5:$B106,\"<\"&J18)","v":0},null,"Week 26",{"$f":"P$38","v":0},{"$f":"P$39","v":{"v":0,"d":"0.000"}},0,{"$f":"P$40","v":{"v":0,"d":"0.0%"}},{"$f":"P$41","v":{"v":0,"d":"0.0%"}},{"$f":"IF($I$1=\"Hy-Line W-36\", Standards!O28, IF($I$1=\"Hy-Line Brown\", Standards!F28, IF($I$1=\"Hy-Line W-80\", Standards!X28, IF($I$1=\"Hy-Line Pink\", Standards!AG28, IF($I$1=\"Hy-Line Silver Brown\", Standards!AP28, IF($I$1=\"Hy-Line Sonia\", Standards!AY28, 0))))))","v":{"v":1.83,"d":"1.830"}},{"$f":"IF($I$1=\"Hy-Line W-36\", Standards!P28, IF($I$1=\"Hy-Line Brown\", Standards!G28, IF($I$1=\"Hy-Line W-80\", Standards!Y28, IF($I$1=\"Hy-Line Pink\", Standards!AH28, IF($I$1=\"Hy-Line Silver Brown\", Standards!AQ28, IF($I$1=\"Hy-Line Sonia\", Standards!AZ28, 0))))))","v":"–"},{"$f":"IF($I$1=\"Hy-Line W-36\", Standards!Q28, IF($I$1=\"Hy-Line Brown\", Standards!H28, IF($I$1=\"Hy-Line W-80\", Standards!Z28, IF($I$1=\"Hy-Line Pink\", Standards!AI28, IF($I$1=\"Hy-Line Silver Brown\", Standards!AR28, IF($I$1=\"Hy-Line Sonia\", Standards!BA28, 0))))))","v":{"v":1.94,"d":"1.940"}},{"v":0.010000000000000009,"d":"0.010"},{"$error":"#N/A"},{"$nulls":7},{"v":1.83,"d":"1.830"},{"v":0.10999999999999988,"d":"0.110"},{"v":1.94,"d":"1.940"},{"v":1.83,"d":"1.830"},{"$error":"#N/A"}]
[13,null,"",null,null,"Intervals",{"$f":"ROUND((J7-G15)/5,3)","v":{"v":0,"d":"0.000"}},{"$f":"ROUND((H16-H15)/10,3)","v":{"v":0.01,"d":"0.010"}},null,{"$f":"H15","v":{"v":0,"d":"0.000"}},{"$f":"NORMDIST(J17,$J$7,$G$19,FALSE)","v":{"$error":"#DIV/0!"}},null,null,{"$f":"CONCATENATE(FIXED(J19,2),\"–\",FIXED(J20,2))","v":"0.02–0.03"},{"$f":"COUNTIF($B$5:$B$105,\"<\"&J20)-COUNTIF($B$5:$B107,\"<\"&J19)","v":0},null,"Week 27",{"$f":"Q$38","v":0},{"$f":"Q$39","v":{"v":0,"d":"0.000"}},0,{"$f":"Q$40","v":{"v":0,"d":"0.0%"}},{"$f":"Q$41","v":{"v":0,"d":"0.0%"}},{"$f":"IF($I$1=\"Hy-Line W-36\", Standards!O29, IF($I$1=\"Hy-Line Brown\", Standards!F29, IF($I$1=\"Hy-Line W-80\", Standards!X29, IF($I$1=\"Hy-Line Pink\", Standards!AG29, IF($I$1=\"Hy-Line Silver Brown\", Standards!AP29, IF($I$1=\"Hy-Line Sonia\", Standards!AY29, 0))))))","v":{"v":1.85,"d":"1.850"}},{"$f":"IF($I$1=\"Hy-Line W-36\", Standards!P29, IF($I$1=\"Hy-Line Brown\", Standards!G29, IF($I$1=\"Hy-Line W-80\", Standards!Y29, IF($I$1=\"Hy-Line Pink\", Standards!AH29, IF($I$1=\"Hy-Line Silver Brown\", Standards!AQ29, IF($I$1=\"Hy-Line Sonia\", Standards!AZ29, 0))))))","v":"–"},{"$f":"IF($I$1=\"Hy-Line W-36\", Standards!Q29, IF($I$1=\"Hy-Line Brown\", Standards!H29, IF($I$1=\"Hy-Line W-80\", Standards!Z29, IF($I$1=\"Hy-Line Pink\", Standards!AI29, IF($I$1=\"Hy-Line Silver Brown\", Standards!AR29, IF($I$1=\"Hy-Line Sonia\", Standards!BA29, 0))))))","v":{"v":1.95,"d":"1.950"}},{"v":0.014999999999999902,"d":"0.015"},{"$error":"#N/A"},{"$nulls":7},{"v":1.85,"d":"1.850"},{"v":0.09999999999999987,"d":"0.100"},{"v":1.95,"d":"1.950"},{"v":1.85,"d":"1.850"},{"$error":"#N/A"}]
[14,null,"",{"$nulls":6},{"$f":"J17+$H$17","v":{"v":0.01,"d":"0.010"}},{"$error":"#DIV/0!"},null,null,"0.03–0.04",{"$f":"COUNTIF($B$5:$B$105,\"<\"&J21)-COUNTIF($B$5:$B108,\"<\"&J20)","v":0},null,"Week 28",{"$f":"R$38","v":0},{"$f":"R$39","v":{"v":0,"d":"0.000"}},0,{"$f":"R$40","v":{"v":0,"d":"0.0%"}},{"$f":"R$41","v":{"v":0,"d":"0.0%"}},{"$f":"IF($I$1=\"Hy-Line W-36\", Standards!O30, IF($I$1=\"Hy-Line Brown\", Standards!F30, IF($I$1=\"Hy-Line W-80\", Standards!X30, IF($I$1=\"Hy-Line Pink\", Standards!AG30, IF($I$1=\"Hy-Line Silver Brown\", Standards!AP30, IF($I$1=\"Hy-Line Sonia\", Standards!AY30, 0))))))","v":{"v":1.86,"d":"1.860"}},{"$f":"IF($I$1=\"Hy-Line W-36\", Standards!P30, IF($I$1=\"Hy-Line Brown\", Standards!G30, IF($I$1=\"Hy-Line W-80\", Standards!Y30, IF($I$1=\"Hy-Line Pink\", Standards!AH30, IF($I$1=\"Hy-Line Silver Brown\", Standards!AQ30, IF($I$1=\"Hy-Line Sonia\", Standards!AZ30, 0))))))","v":"–"},{"$f":"IF($I$1=\"Hy-Line W-36\", Standards!Q30, IF($I$1=\"Hy-Line Brown\", Standards!H30, IF($I$1=\"Hy-Line W-80\", Standards!Z30, IF($I$1=\"Hy-Line Pink\", Standards!AI30, IF($I$1=\"Hy-Line Silver Brown\", Standards!AR30, IF($I$1=\"Hy-Line Sonia\", Standards!BA30, 0))))))","v":{"v":1.97,"d":"1.970"}},{"v":0.015000000000000124,"d":"0.015"},{"$error":"#N/A"},{"$nulls":7},{"v":1.86,"d":"1.860"},{"v":0.10999999999999988,"d":"0.110"},{"v":1.97,"d":"1.970"},{"v":1.86,"d":"1.860"},{"$error":"#N/A"}]
[15,null,"",null,null,"stdev",{"$f":"STDEV(B4:B105)","v":{"$error":"#DIV/0!"}},null,null,{"v":0.02,"d":"0.020"},{"$error":"#DIV/0!"},null,null,"0.04–0.05",{"$f":"COUNTIF($B$5:$B$105,\"<\"&J22)-COUNTIF($B$5:$B109,\"<\"&J21)","v":0},null,"Week 29",{"$f":"S$38","v":0},{"$f":"S$39","v":{"v":0,"d":"0.000"}},0,{"$f":"S$40","v":{"v":0,"d":"0.0%"}},{"$f":"S$41","v":{"v":0,"d":"0.0%"}},{"$f":"IF($I$1=\"Hy-Line W-36\", Standards!O31, IF($I$1=\"Hy-Line Brown\", Standards!F31, IF($I$1=\"Hy-Line W-80\", Standards!X31, IF($I$1=\"Hy-Line Pink\", Standards!AG31, IF($I$1=\"Hy-Line Silver Brown\", Standards!AP31, IF($I$1=\"Hy-Line Sonia\", Standards!AY31, 0))))))","v":{"v":1.87,"d":"1.870"}},{"$f":"IF($I$1=\"Hy-Line W-36\", Standards!P31, IF($I$1=\"Hy-Line Brown\", Standards!G31, IF($I$1=\"Hy-Line W-80\", Standards!Y31, IF($I$1=\"Hy-Line Pink\", Standards!AH31, IF($I$1=\"Hy-Line Silver Brown\", Standards!AQ31, IF($I$1=\"Hy-Line Sonia\", Standards!AZ31, 0))))))","v":"–"},{"$f":"IF($I$1=\"Hy-Line W-36\", Standards!Q31, IF($I$1=\"Hy-Line Brown\", Standards!H31, IF($I$1=\"Hy-Line W-80\", Standards!Z31, IF($I$1=\"Hy-Line Pink\", Standards!AI31, IF($I$1=\"Hy-Line Silver Brown\", Standards!AR31, IF($I$1=\"Hy-Line Sonia\", Standards!BA31, 0))))))","v":{"v":1.98,"d":"1.980"}},{"v":0.010000000000000009,"d":"0.010"},{"$error":"#N/A"},{"$nulls":7},{"v":1.87,"d":"1.870"},{"v":0.10999999999999988,"d":"0.110"},{"v":1.98,"d":"1.980"},{"v":1.87,"d":"1.870"},{"$error":"#N/A"}]
[16,null,"",{"$nulls":6},{"v":0.03,"d":"0.030"},{"$error":"#DIV/0!"},null,null,"0.05–0.06",{"$f":"COUNTIF($B$5:$B$105,\"<\"&J23)-COUNTIF($B$5:$B110,\"<\"&J22)","v":0},null,"Week 30",{"$f":"T$38","v":0},{"$f":"T$39","v":{"v":0,"d":"0.000"}},0,{"$f":"T$40","v":{"v":0,"d":"0.0%"}},{"$f":"T$41","v":{"v":0,"d":"0.0%"}},{"$f":"IF($I$1=\"Hy-Line W-36\", Standards!O32, IF($I$1=\"Hy-Line Brown\", Standards!F32, IF($I$1=\"Hy-Line W-80\", Standards!X32, IF($I$1=\"Hy-Line Pink\", Standards!AG32, IF($I$1=\"Hy-Line Silver Brown\", Standards!AP32, IF($I$1=\"Hy-Line Sonia\", Standards!AY32, 0))))))","v":{"v":1.87,"d":"1.870"}},{"$f":"IF($I$1=\"Hy-Line W-36\", Standards!P32, IF($I$1=\"Hy-Line Brown\", Standards!G32, IF($I$1=\"Hy-Line W-80\", Standards!Y32, IF($I$1=\"Hy-Line Pink\", Standards!AH32, IF($I$1=\"Hy-Line Silver Brown\", Standards!AQ32, IF($I$1=\"Hy-Line Sonia\", Standards!AZ32, 0))))))","v":"–"},{"$f":"IF($I$1=\"Hy-Line W-36\", Standards!Q32, IF($I$1=\"Hy-Line Brown\", Standards!H32, IF($I$1=\"Hy-Line W-80\", Standards!Z32, IF($I$1=\"Hy-Line Pink\", Standards!AI32, IF($I$1=\"Hy-Line Silver Brown\", Standards!AR32, IF($I$1=\"Hy-Line Sonia\", Standards!BA32, 0))))))","v":{"v":1.98,"d":"1.980"}},{"v":0,"d":"0.000"},{"$error":"#N/A"},{"$nulls":7},{"v":1.87,"d":"1.870"},{"v":0.10999999999999988,"d":"0.110"},{"v":1.98,"d":"1.980"},{"v":1.87,"d":"1.870"},{"$error":"#N/A"}]
[17,null,"",{"$nulls":6},{"v":0.04,"d":"0.040"},{"$error":"#DIV/0!"},null,null,"0.06–0.07",{"$f":"COUNTIF($B$5:$B$105,\"<\"&J24)-COUNTIF($B$5:$B111,\"<\"&J23)","v":0},null,"Week 31",{"$f":"U$38","v":0},{"$f":"U$39","v":{"v":0,"d":"0.000"}},0,{"$f":"U$40","v":{"v":0,"d":"0.0%"}},{"$f":"U$41","v":{"v":0,"d":"0.0%"}},{"$f":"IF($I$1=\"Hy-Line W-36\", Standards!O33, IF($I$1=\"Hy-Line Brown\", Standards!F33, IF($I$1=\"Hy-Line W-80\", Standards!X33, IF($I$1=\"Hy-Line Pink\", Standards!AG33, IF($I$1=\"Hy-Line Silver Brown\", Standards!AP33, IF($I$1=\"Hy-Line Sonia\", Standards!AY33, 0))))))","v":{"v":1.87,"d":"1.870"}},{"$f":"IF($I$1=\"Hy-Line W-36\", Standards!P33, IF($I$1=\"Hy-Line Brown\", Standards!G33, IF($I$1=\"Hy-Line W-80\", Standards!Y33, IF($I$1=\"Hy-Line Pink\", Standards!AH33, IF($I$1=\"Hy-Line Silver Brown\", Standards!AQ33, IF($I$1=\"Hy-Line Sonia\", Standards!AZ33, 0))))))","v":"–"},{"$f":"IF($I$1=\"Hy-Line W-36\", Standards!Q33, IF($I$1=\"Hy-Line Brown\", Standards!H33, IF($I$1=\"Hy-Line W-80\", Standards!Z33, IF($I$1=\"Hy-Line Pink\", Standards!AI33, IF($I$1=\"Hy-Line Silver Brown\", Standards!AR33, IF($I$1=\"Hy-Line Sonia\", Standards!BA33, 0))))))","v":{"v":1.98,"d":"1.980"}},{"v":0,"d":"0.000"},{"$error":"#N/A"},{"$nulls":7},{"v":1.87,"d":"1.870"},{"v":0.10999999999999988,"d":"0.110"},{"v":1.98,"d":"1.980"},{"v":1.87,"d":"1.870"},{"$error":"#N/A"}]
[18,null,"",{"$nulls":6},{"v":0.05,"d":"0.050"},{"$error":"#DIV/0!"},null,null,"0.07–0.08",{"$f":"COUNTIF($B$5:$B$105,\"<\"&J25)-COUNTIF($B$5:$B112,\"<\"&J24)","v":0},null,"Week 32",{"$f":"V$38","v":0},{"$f":"V$39","v":{"v":0,"d":"0.000"}},0,{"$f":"V$40","v":{"v":0,"d":"0.0%"}},{"$f":"V$41","v":{"v":0,"d":"0.0%"}},{"$f":"IF($I$1=\"Hy-Line W-36\", Standards!O34, IF($I$1=\"Hy-Line Brown\", Standards!F34, IF($I$1=\"Hy-Line W-80\", Standards!X34, IF($I$1=\"Hy-Line Pink\", Standards!AG34, IF($I$1=\"Hy-Line Silver Brown\", Standards!AP34, IF($I$1=\"Hy-Line Sonia\", Standards!AY34, 0))))))","v":{"v":1.88,"d":"1.880"}},{"$f":"IF($I$1=\"Hy-Line W-36\", Standards!P34, IF($I$1=\"Hy-Line Brown\", Standards!G34, IF($I$1=\"Hy-Line W-80\", Standards!Y34, IF($I$1=\"Hy-Line Pink\", Standards!AH34, IF($I$1=\"Hy-Line Silver Brown\", Standards!AQ34, IF($I$1=\"Hy-Line Sonia\", Standards!AZ34, 0))))))","v":"–"},{"$f":"IF($I$1=\"Hy-Line W-36\", Standards!Q34, IF($I$1=\"Hy-Line Brown\", Standards!H34, IF($I$1=\"Hy-Line W-80\", Standards!Z34, IF($I$1=\"Hy-Line Pink\", Standards!AI34, IF($I$1=\"Hy-Line Silver Brown\", Standards!AR34, IF($I$1=\"Hy-Line Sonia\", Standards!BA34, 0))))))","v":{"v":1.99,"d":"1.990"}},{"v":0.010000000000000009,"d":"0.010"},{"$error":"#N/A"},{"$nulls":7},{"v":1.88,"d":"1.880"},{"v":0.1100000000000001,"d":"0.110"},{"v":1.99,"d":"1.990"},{"v":1.88,"d":"1.880"},{"$error":"#N/A"}]
[19,null,"",{"$nulls":6},{"v":0.060000000000000005,"d":"0.060"},{"$error":"#DIV/0!"},null,null,"0.08–0.09",{"$f":"COUNTIF($B$5:$B$105,\"<\"&J26)-COUNTIF($B$5:$B113,\"<\"&J25)","v":0},null,"Week 33",{"$f":"W$38","v":0},{"$f":"W$39","v":{"v":0,"d":"0.000"}},0,{"$f":"W$40","v":{"v":0,"d":"0.0%"}},{"$f":"W$41","v":{"v":0,"d":"0.0%"}},{"$f":"IF($I$1=\"Hy-Line W-36\", Standards!O35, IF($I$1=\"Hy-Line Brown\", Standards!F35, IF($I$1=\"Hy-Line W-80\", Standards!X35, IF($I$1=\"Hy-Line Pink\", Standards!AG35, IF($I$1=\"Hy-Line Silver Brown\", Standards!AP35, IF($I$1=\"Hy-Line Sonia\", Standards!AY35, 0))))))","v":{"v":1.88,"d":"1.880"}},{"$f":"IF($I$1=\"Hy-Line W-36\", Standards!P35, IF($I$1=\"Hy-Line Brown\", Standards!G35, IF($I$1=\"Hy-Line W-80\", Standards!Y35, IF($I$1=\"Hy-Line Pink\", Standards!AH35, IF($I$1=\"Hy-Line Silver Brown\", Standards!AQ35, IF($I$1=\"Hy-Line Sonia\", Standards!AZ35, 0))))))","v":"–"},{"$f":"IF($I$1=\"Hy-Line W-36\", Standards!Q35, IF($I$1=\"Hy-Line Brown\", Standards!H35, IF($I$1=\"Hy-Line W-80\", Standards!Z35, IF($I$1=\"Hy-Line Pink\", Standards!AI35, IF($I$1=\"Hy-Line Silver Brown\", Standards!AR35, IF($I$1=\"Hy-Line Sonia\", Standards!BA35, 0))))))","v":{"v":1.99,"d":"1.990"}},{"v":0,"d":"0.000"},{"$error":"#N/A"},{"$nulls":7},{"v":1.88,"d":"1.880"},{"v":0.1100000000000001,"d":"0.110"},{"v":1.99,"d":"1.990"},{"v":1.88,"d":"1.880"},{"$error":"#N/A"}]
[20,null,"",{"$nulls":6},{"v":0.07,"d":"0.070"},{"$error":"#DIV/0!"},null,null,"0.09–0.10",{"$f":"COUNTIF($B$5:$B$105,\"<\"&J27)-COUNTIF($B$5:$B114,\"<\"&J26)","v":0},null,"Week 34",{"$f":"Y$38","v":0},{"$f":"Y$39","v":{"v":0,"d":"0.000"}},0,{"$f":"Y$40","v":{"v":0,"d":"0.0%"}},{"$f":"Y$41","v":{"v":0,"d":"0.0%"}},{"$f":"IF($I$1=\"Hy-Line W-36\", Standards!O36, IF($I$1=\"Hy-Line Brown\", Standards!F36, IF($I$1=\"Hy-Line W-80\", Standards!X36, IF($I$1=\"Hy-Line Pink\", Standards!AG36, IF($I$1=\"Hy-Line Silver Brown\", Standards!AP36, IF($I$1=\"Hy-Line Sonia\", Standards!AY36, 0))))))","v":{"v":1.89,"d":"1.890"}},{"$f":"IF($I$1=\"Hy-Line W-36\", Standards!P36, IF($I$1=\"Hy-Line Brown\", Standards!G36, IF($I$1=\"Hy-Line W-80\", Standards!Y36, IF($I$1=\"Hy-Line Pink\", Standards!AH36, IF($I$1=\"Hy-Line Silver Brown\", Standards!AQ36, IF($I$1=\"Hy-Line Sonia\", Standards!AZ36, 0))))))","v":"–"},{"$f":"IF($I$1=\"Hy-Line W-36\", Standards!Q36, IF($I$1=\"Hy-Line Brown\", Standards!H36, IF($I$1=\"Hy-Line W-80\", Standards!Z36, IF($I$1=\"Hy-Line Pink\", Standards!AI36, IF($I$1=\"Hy-Line Silver Brown\", Standards!AR36, IF($I$1=\"Hy-Line Sonia\", Standards!BA36, 0))))))","v":{"v":2,"d":"2.000"}},{"v":0.009999999999999787,"d":"0.010"},{"$error":"#N/A"},{"$nulls":7},{"v":1.89,"d":"1.890"},{"v":0.1100000000000001,"d":"0.110"},{"v":2,"d":"2.000"},{"v":1.89,"d":"1.890"},{"$error":"#N/A"}]
[21,null,"",{"$nulls":6},{"v":0.08,"d":"0.080"},{"$error":"#DIV/0!"},{"$nulls":5},"Week 35",{"$f":"Z$38","v":0},{"$f":"Z$39","v":{"v":0,"d":"0.000"}},0,{"$f":"Z$40","v":{"v":0,"d":"0.0%"}},{"$f":"Z$41","v":{"v":0,"d":"0.0%"}},{"$f":"IF($I$1=\"Hy-Line W-36\", Standards!O37, IF($I$1=\"Hy-Line Brown\", Standards!F37, IF($I$1=\"Hy-Line W-80\", Standards!X37, IF($I$1=\"Hy-Line Pink\", Standards!AG37, IF($I$1=\"Hy-Line Silver Brown\", Standards!AP37, IF($I$1=\"Hy-Line Sonia\", Standards!AY37, 0))))))","v":{"v":1.89,"d":"1.890"}},{"$f":"IF($I$1=\"Hy-Line W-36\", Standards!P37, IF($I$1=\"Hy-Line Brown\", Standards!G37, IF($I$1=\"Hy-Line W-80\", Standards!Y37, IF($I$1=\"Hy-Line Pink\", Standards!AH37, IF($I$1=\"Hy-Line Silver Brown\", Standards!AQ37, IF($I$1=\"Hy-Line Sonia\", Standards!AZ37, 0))))))","v":"–"},{"$f":"IF($I$1=\"Hy-Line W-36\", Standards!Q37, IF($I$1=\"Hy-Line Brown\", Standards!H37, IF($I$1=\"Hy-Line W-80\", Standards!Z37, IF($I$1=\"Hy-Line Pink\", Standards!AI37, IF($I$1=\"Hy-Line Silver Brown\", Standards!AR37, IF($I$1=\"Hy-Line Sonia\", Standards!BA37, 0))))))","v":{"v":2,"d":"2.000"}},{"v":0,"d":"0.000"},{"$error":"#N/A"},{"$nulls":7},{"v":1.89,"d":"1.890"},{"v":0.1100000000000001,"d":"0.110"},{"v":2,"d":"2.000"},{"v":1.89,"d":"1.890"},{"$error":"#N/A"}]
[22,null,"",{"$nulls":6},{"v":0.09,"d":"0.090"},{"$error":"#DIV/0!"},null,null,"Total birds",{"$f":"SUM(O14:O25)","v":0},{"$f":"IF(O26<>J5,\"Something is wrong\",\"\")","v":""},"Week 36",{"$f":"AA$38","v":0},{"$f":"AA$39","v":{"v":0,"d":"0.000"}},0,{"$f":"AA$40","v":{"v":0,"d":"0.0%"}},{"$f":"AA$41","v":{"v":0,"d":"0.0%"}},{"$f":"IF($I$1=\"Hy-Line W-36\", Standards!O38, IF($I$1=\"Hy-Line Brown\", Standards!F38, IF($I$1=\"Hy-Line W-80\", Standards!X38, IF($I$1=\"Hy-Line Pink\", Standards!AG38, IF($I$1=\"Hy-Line Silver Brown\", Standards!AP38, IF($I$1=\"Hy-Line Sonia\", Standards!AY38, 0))))))","v":{"v":1.89,"d":"1.890"}},{"$f":"IF($I$1=\"Hy-Line W-36\", Standards!P38, IF($I$1=\"Hy-Line Brown\", Standards!G38, IF($I$1=\"Hy-Line W-80\", Standards!Y38, IF($I$1=\"Hy-Line Pink\", Standards!AH38, IF($I$1=\"Hy-Line Silver Brown\", Standards!AQ38, IF($I$1=\"Hy-Line Sonia\", Standards!AZ38, 0))))))","v":"–"},{"$f":"IF($I$1=\"Hy-Line W-36\", Standards!Q38, IF($I$1=\"Hy-Line Brown\", Standards!H38, IF($I$1=\"Hy-Line W-80\", Standards!Z38, IF($I$1=\"Hy-Line Pink\", Standards!AI38, IF($I$1=\"Hy-Line Silver Brown\", Standards!AR38, IF($I$1=\"Hy-Line Sonia\", Standards!BA38, 0))))))","v":{"v":2,"d":"2.000"}},{"v":0,"d":"0.000"},{"$error":"#N/A"},{"$nulls":7},{"v":1.89,"d":"1.890"},{"v":0.1100000000000001,"d":"0.110"},{"v":2,"d":"2.000"},{"v":1.89,"d":"1.890"},{"$error":"#N/A"}]
[23,null,"",{"$nulls":6},{"v":0.09999999999999999,"d":"0.100"},{"$error":"#DIV/0!"},{"$nulls":5},"Week 37",{"$f":"AB$38","v":0},{"$f":"AB$39","v":{"v":0,"d":"0.000"}},0,{"$f":"AB$40","v":{"v":0,"d":"0.0%"}},{"$f":"AB$41","v":{"v":0,"d":"0.0%"}},{"$f":"IF($I$1=\"Hy-Line W-36\", Standards!O39, IF($I$1=\"Hy-Line Brown\", Standards!F39, IF($I$1=\"Hy-Line W-80\", Standards!X39, IF($I$1=\"Hy-Line Pink\", Standards!AG39, IF($I$1=\"Hy-Line Silver Brown\", Standards!AP39, IF($I$1=\"Hy-Line Sonia\", Standards!AY39, 0))))))","v":{"v":1.89,"d":"1.890"}},{"$f":"IF($I$1=\"Hy-Line W-36\", Standards!P39, IF($I$1=\"Hy-Line Brown\", Standards!G39, IF($I$1=\"Hy-Line W-80\", Standards!Y39, IF($I$1=\"Hy-Line Pink\", Standards!AH39, IF($I$1=\"Hy-Line Silver Brown\", Standards!AQ39, IF($I$1=\"Hy-Line Sonia\", Standards!AZ39, 0))))))","v":"–"},{"$f":"IF($I$1=\"Hy-Line W-36\", Standards!Q39, IF($I$1=\"Hy-Line Brown\", Standards!H39, IF($I$1=\"Hy-Line W-80\", Standards!Z39, IF($I$1=\"Hy-Line Pink\", Standards!AI39, IF($I$1=\"Hy-Line Silver Brown\", Standards!AR39, IF($I$1=\"Hy-Line Sonia\", Standards!BA39, 0))))))","v":{"v":2,"d":"2.000"}},{"v":0,"d":"0.000"},{"$error":"#N/A"},{"$nulls":7},{"v":1.89,"d":"1.890"},{"v":0.1100000000000001,"d":"0.110"},{"v":2,"d":"2.000"},{"v":1.89,"d":"1.890"},{"$error":"#N/A"}]
[24,null,"",{"$nulls":13},"Week 38",{"$f":"AC$38","v":0},{"$f":"AC$39","v":{"v":0,"d":"0.000"}},0,{"$f":"AC$40","v":{"v":0,"d":"0.0%"}},{"$f":"AC$41","v":{"v":0,"d":"0.0%"}},{"$f":"IF($I$1=\"Hy-Line W-36\", Standards!O40, IF($I$1=\"Hy-Line Brown\", Standards!F40, IF($I$1=\"Hy-Line W-80\", Standards!X40, IF($I$1=\"Hy-Line Pink\", Standards!AG40, IF($I$1=\"Hy-Line Silver Brown\", Standards!AP40, IF($I$1=\"Hy-Line Sonia\", Standards!AY40, 0))))))","v":{"v":1.89,"d":"1.890"}},{"$f":"IF($I$1=\"Hy-Line W-36\", Standards!P40, IF($I$1=\"Hy-Line Brown\", Standards!G40, IF($I$1=\"Hy-Line W-80\", Standards!Y40, IF($I$1=\"Hy-Line Pink\", Standards!AH40, IF($I$1=\"Hy-Line Silver Brown\", Standards!AQ40, IF($I$1=\"Hy-Line Sonia\", Standards!AZ40, 0))))))","v":"–"},{"$f":"IF($I$1=\"Hy-Line W-36\", Standards!Q40, IF($I$1=\"Hy-Line Brown\", Standards!H40, IF($I$1=\"Hy-Line W-80\", Standards!Z40, IF($I$1=\"Hy-Line Pink\", Standards!AI40, IF($I$1=\"Hy-Line Silver Brown\", Standards!AR40, IF($I$1=\"Hy-Line Sonia\", Standards!BA40, 0))))))","v":{"v":2.01,"d":"2.010"}},{"v":0.004999999999999893,"d":"0.005"},{"$error":"#N/A"},{"$nulls":7},{"v":1.89,"d":"1.890"},{"v":0.11999999999999988,"d":"0.120"},{"v":2.01,"d":"2.010"},{"v":1.89,"d":"1.890"},{"$error":"#N/A"}]
[25,null,"",{"$nulls":13},"Week 39",{"$f":"AD$38","v":0},{"$f":"AD$39","v":{"v":0,"d":"0.000"}},0,{"$f":"AD$40","v":{"v":0,"d":"0.0%"}},{"$f":"AD$41","v":{"v":0,"d":"0.0%"}},{"$f":"IF($I$1=\"Hy-Line W-36\", Standards!O41, IF($I$1=\"Hy-Line Brown\", Standards!F41, IF($I$1=\"Hy-Line W-80\", Standards!X41, IF($I$1=\"Hy-Line Pink\", Standards!AG41, IF($I$1=\"Hy-Line Silver Brown\", Standards!AP41, IF($I$1=\"Hy-Line Sonia\", Standards!AY41, 0))))))","v":{"v":1.9,"d":"1.900"}},{"$f":"IF($I$1=\"Hy-Line W-36\", Standards!P41, IF($I$1=\"Hy-Line Brown\", Standards!G41, IF($I$1=\"Hy-Line W-80\", Standards!Y41, IF($I$1=\"Hy-Line Pink\", Standards!AH41, IF($I$1=\"Hy-Line Silver Brown\", Standards!AQ41, IF($I$1=\"Hy-Line Sonia\", Standards!AZ41, 0))))))","v":"–"},{"$f":"IF($I$1=\"Hy-Line W-36\", Standards!Q41, IF($I$1=\"Hy-Line Brown\", Standards!H41, IF($I$1=\"Hy-Line W-80\", Standards!Z41, IF($I$1=\"Hy-Line Pink\", Standards!AI41, IF($I$1=\"Hy-Line Silver Brown\", Standards!AR41, IF($I$1=\"Hy-Line Sonia\", Standards!BA41, 0))))))","v":{"v":2.01,"d":"2.010"}},{"v":5.0000000000001155E-3,"d":"0.005"},{"$error":"#N/A"},{"$nulls":7},{"v":1.9,"d":"1.900"},{"v":0.10999999999999988,"d":"0.110"},{"v":2.01,"d":"2.010"},{"v":1.9,"d":"1.900"},{"$error":"#N/A"}]
[26,null,"",{"$nulls":13},"Week 40",{"$f":"AE$38","v":0},{"$f":"AE$39","v":{"v":0,"d":"0.000"}},0,{"$f":"AE$40","v":{"v":0,"d":"0.0%"}},{"$f":"AE$41","v":{"v":0,"d":"0.0%"}},{"$f":"IF($I$1=\"Hy-Line W-36\", Standards!O42, IF($I$1=\"Hy-Line Brown\", Standards!F42, IF($I$1=\"Hy-Line W-80\", Standards!X42, IF($I$1=\"Hy-Line Pink\", Standards!AG42, IF($I$1=\"Hy-Line Silver Brown\", Standards!AP42, IF($I$1=\"Hy-Line Sonia\", Standards!AY42, 0))))))","v":{"v":1.9,"d":"1.900"}},{"$f":"IF($I$1=\"Hy-Line W-36\", Standards!P42, IF($I$1=\"Hy-Line Brown\", Standards!G42, IF($I$1=\"Hy-Line W-80\", Standards!Y42, IF($I$1=\"Hy-Line Pink\", Standards!AH42, IF($I$1=\"Hy-Line Silver Brown\", Standards!AQ42, IF($I$1=\"Hy-Line Sonia\", Standards!AZ42, 0))))))","v":"–"},{"$f":"IF($I$1=\"Hy-Line W-36\", Standards!Q42, IF($I$1=\"Hy-Line Brown\", Standards!H42, IF($I$1=\"Hy-Line W-80\", Standards!Z42, IF($I$1=\"Hy-Line Pink\", Standards!AI42, IF($I$1=\"Hy-Line Silver Brown\", Standards!AR42, IF($I$1=\"Hy-Line Sonia\", Standards!BA42, 0))))))","v":{"v":2.01,"d":"2.010"}},{"v":0,"d":"0.000"},{"$error":"#N/A"},{"$nulls":7},{"v":1.9,"d":"1.900"},{"v":0.10999999999999988,"d":"0.110"},{"v":2.01,"d":"2.010"},{"v":1.9,"d":"1.900"},{"$error":"#N/A"}]
[27,null,"",{"$nulls":4},"NORMINV(rand(),mean,standard_dev)",{"$nulls":8},"Week 41",{"$f":"AF$38","v":0},{"$f":"AF$39","v":{"v":0,"d":"0.000"}},0,{"$f":"AF$40","v":{"v":0,"d":"0.0%"}},{"$f":"AF$41","v":{"v":0,"d":"0.0%"}},{"$f":"IF($I$1=\"Hy-Line W-36\", Standards!O43, IF($I$1=\"Hy-Line Brown\", Standards!F43, IF($I$1=\"Hy-Line W-80\", Standards!X43, IF($I$1=\"Hy-Line Pink\", Standards!AG43, IF($I$1=\"Hy-Line Silver Brown\", Standards!AP43, IF($I$1=\"Hy-Line Sonia\", Standards!AY43, 0))))))","v":{"v":1.9,"d":"1.900"}},{"$f":"IF($I$1=\"Hy-Line W-36\", Standards!P43, IF($I$1=\"Hy-Line Brown\", Standards!G43, IF($I$1=\"Hy-Line W-80\", Standards!Y43, IF($I$1=\"Hy-Line Pink\", Standards!AH43, IF($I$1=\"Hy-Line Silver Brown\", Standards!AQ43, IF($I$1=\"Hy-Line Sonia\", Standards!AZ43, 0))))))","v":"–"},{"$f":"IF($I$1=\"Hy-Line W-36\", Standards!Q43, IF($I$1=\"Hy-Line Brown\", Standards!H43, IF($I$1=\"Hy-Line W-80\", Standards!Z43, IF($I$1=\"Hy-Line Pink\", Standards!AI43, IF($I$1=\"Hy-Line Silver Brown\", Standards!AR43, IF($I$1=\"Hy-Line Sonia\", Standards!BA43, 0))))))","v":{"v":2.02,"d":"2.020"}},{"v":5.0000000000001155E-3,"d":"0.005"},{"$error":"#N/A"},{"$nulls":7},{"v":1.9,"d":"1.900"},{"v":0.1200000000000001,"d":"0.120"},{"v":2.02,"d":"2.020"},{"v":1.9,"d":"1.900"},{"$error":"#N/A"}]
[28,null,"",{"$nulls":13},"Week 42",{"$f":"AG$38","v":0},{"$f":"AG$39","v":{"v":0,"d":"0.000"}},0,{"$f":"AG$40","v":{"v":0,"d":"0.0%"}},{"$f":"AG$41","v":{"v":0,"d":"0.0%"}},{"$f":"IF($I$1=\"Hy-Line W-36\", Standards!O44, IF($I$1=\"Hy-Line Brown\", Standards!F44, IF($I$1=\"Hy-Line W-80\", Standards!X44, IF($I$1=\"Hy-Line Pink\", Standards!AG44, IF($I$1=\"Hy-Line Silver Brown\", Standards!AP44, IF($I$1=\"Hy-Line Sonia\", Standards!AY44, 0))))))","v":{"v":1.91,"d":"1.910"}},{"$f":"IF($I$1=\"Hy-Line W-36\", Standards!P44, IF($I$1=\"Hy-Line Brown\", Standards!G44, IF($I$1=\"Hy-Line W-80\", Standards!Y44, IF($I$1=\"Hy-Line Pink\", Standards!AH44, IF($I$1=\"Hy-Line Silver Brown\", Standards!AQ44, IF($I$1=\"Hy-Line Sonia\", Standards!AZ44, 0))))))","v":"–"},{"$f":"IF($I$1=\"Hy-Line W-36\", Standards!Q44, IF($I$1=\"Hy-Line Brown\", Standards!H44, IF($I$1=\"Hy-Line W-80\", Standards!Z44, IF($I$1=\"Hy-Line Pink\", Standards!AI44, IF($I$1=\"Hy-Line Silver Brown\", Standards!AR44, IF($I$1=\"Hy-Line Sonia\", Standards!BA44, 0))))))","v":{"v":2.02,"d":"2.020"}},{"v":0.004999999999999893,"d":"0.005"},{"$error":"#N/A"},{"$nulls":7},{"v":1.91,"d":"1.910"},{"v":0.1100000000000001,"d":"0.110"},{"v":2.02,"d":"2.020"},{"v":1.91,"d":"1.910"},{"$error":"#N/A"}]
[29,null,""]
[30,null,""]
[31,null,""]
[32,null,"","Body Weights - copy and \"paste special\" data values into column B for each week to obtain graphs"]
[33,null,"","Bird #","Week 15","Week 16","Week 17","Week 18","Week 19","Week 20","Week 21","Week 22","Week 23","Week 24","Week 25","Week 26","Week 27","Week 28","Week 29","Week 30","Week 31","Week 32","Week 33",null,"Week 34","Week 35","Week 36","Week 37","Week 38","Week 39","Week 40","Week 41","Week 42"]
[34,null,"","Count",{"$f":"COUNTIF(E42:E141, \">0\")","v":0},{"$f":"COUNTIF(F42:F141, \">0\")","v":0},0,0,0,0,0,0,0,0,0,0,0,0,0,0,0,0,0,null,0,0,0,0,0,0,0,0,0]
[35,null,"","Average",{"$f":"IFERROR(AVERAGE(E42:E141), 0)","v":{"v":0,"d":"0.000"}},{"$f":"IFERROR(AVERAGE(F42:F141), 0)","v":{"v":0,"d":"0.000"}},{"v":0,"d":"0.000"},{"v":0,"d":"0.000"},{"v":0,"d":"0.000"},{"v":0,"d":"0.000"},{"v":0,"d":"0.000"},{"v":0,"d":"0.000"},{"v":0,"d":"0.000"},{"v":0,"d":"0.000"},{"v":0,"d":"0.000"},{"v":0,"d":"0.000"},{"v":0,"d":"0.000"},{"v":0,"d":"0.000"},{"v":0,"d":"0.000"},{"v":0,"d":"0.000"},{"v":0,"d":"0.000"},{"v":0,"d":"0.000"},{"v":0,"d":"0.000"},null,{"v":0,"d":"0.000"},{"v":0,"d":"0.000"},{"v":0,"d":"0.000"},{"v":0,"d":"0.000"},{"v":0,"d":"0.000"},{"v":0,"d":"0.000"},{"v":0,"d":"0.000"},{"v":0,"d":"0.000"},{"v":0,"d":"0.000"}]
[36,null,"","Uniformity",{"$f":"IFERROR((E38-E144)/E38, 0)","v":{"v":0,"d":"0.0%"}},{"$f":"IFERROR((F38-F144)/F38, 0)","v":{"v":0,"d":"0.0%"}},{"v":0,"d":"0.0%"},{"v":0,"d":"0.0%"},{"v":0,"d":"0.0%"},{"v":0,"d":"0.0%"},{"v":0,"d":"0.0%"},{"v":0,"d":"0.0%"},{"v":0,"d":"0.0%"},{"v":0,"d":"0.0%"},{"v":0,"d":"0.0%"},{"v":0,"d":"0.0%"},{"v":0,"d":"0.0%"},{"v":0,"d":"0.0%"},{"v":0,"d":"0.0%"},{"v":0,"d":"0.0%"},{"v":0,"d":"0.0%"},{"v":0,"d":"0.0%"},{"v":0,"d":"0.0%"},null,{"v":0,"d":"0.0%"},{"v":0,"d":"0.0%"},{"v":0,"d":"0.0%"},{"v":0,"d":"0.0%"},{"v":0,"d":"0.0%"},{"v":0,"d":"0.0%"},{"v":0,"d":"0.0%"},{"v":0,"d":"0.0%"},{"v":0,"d":"0.0%"}]
[37,null,"","CV%",{"$f":"IFERROR(STDEV(E42:E141)/E39, 0)","v":{"v":0,"d":"0.0%"}},{"$f":"IFERROR(STDEV(F42:F141)/F39, 0)","v":{"v":0,"d":"0.0%"}},{"v":0,"d":"0.0%"},{"v":0,"d":"0.0%"},{"v":0,"d":"0.0%"},{"v":0,"d":"0.0%"},{"v":0,"d":"0.0%"},{"v":0,"d":"0.0%"},{"v":0,"d":"0.0%"},{"v":0,"d":"0.0%"},{"v":0,"d":"0.0%"},{"v":0,"d":"0.0%"},{"v":0,"d":"0.0%"},{"v":0,"d":"0.0%"},{"v":0,"d":"0.0%"},{"v":0,"d":"0.0%"},{"v":0,"d":"0.0%"},{"v":0,"d":"0.0%"},{"v":0,"d":"0.0%"},null,{"v":0,"d":"0.0%"},{"v":0,"d":"0.0%"},{"v":0,"d":"0.0%"},{"v":0,"d":"0.0%"},{"v":0,"d":"0.0%"},{"v":0,"d":"0.0%"},{"v":0,"d":"0.0%"},{"v":0,"d":"0.0%"},{"v":0,"d":"0.0%"}]
[38,null,"",1]
[39,null,"",2]
[40,null,"",3]
[41,null,"",4]
[42,null,"",5]
[43,null,"",6]
[44,null,"",7]
[45,null,"",8]
[46,null,"",9]
[47,null,"",10]
[48,null,"",11]
[49,null,"",12]
[50,null,"",13]
[51,null,"",14]
[52,null,"",15]
[53,null,"",16]
[54,null,"",17]
[55,null,"",18]
[56,null,"",19]
[57,null,"",20]
[58,null,"",21]
[59,null,"",22]
[60,null,"",23]
[61,null,"",24]
[62,null,"",25]
[63,null,"",26]
[64,null,"",27]
[65,null,{"$f":"IF(B69=0,\"\",IF(B69=\"\",\"\",IF(B69>$J$8,\"High\",IF(B69<$J$9,\"Low\",\"\"))))","v":""},28]
[66,null,"",29]
[{"$f":"1+A70","v":67},null,"",30]
[68,null,"",31]
[69,null,"",32]
[70,null,"",33]
[71,null,"",34]
[72,null,"",35]
[73,null,"",36]
[74,null,"",37]
[75,null,"",38]
[76,null,"",39]
[77,null,"",40]
[78,null,"",41]
[79,null,"",42]
[80,null,"",43]
[81,null,"",44]
[82,null,"",45]
[83,null,"",46]
[84,null,"",47]
[85,null,"",48]
[86,null,"",49]
[87,null,"",50]
[88,null,"",51]
[89,null,"",52]
[90,null,"",53]
[91,null,"",54]
[92,null,"",55]
[93,null,"",56]
[94,null,"",57]
[95,null,"",58]
[96,null,"",59]
[97,null,"",60]
[98,null,"",61]
[99,null,"",62]
[100,null,"",63]
[{"$nulls":3},64]
[{"$nulls":3},65]
[{"$nulls":3},66]
[{"$nulls":3},67]
[{"$nulls":3},68]
[{"$nulls":3},69]
[{"$nulls":3},70]
[{"$nulls":3},71]
[{"$nulls":3},72]
[{"$nulls":3},73]
[{"$nulls":3},74]
[{"$nulls":3},75]
[{"$nulls":3},76]
[{"$nulls":3},77]
[{"$nulls":3},78]
[{"$nulls":3},79]
[{"$nulls":3},80]
[{"$nulls":3},81]
[{"$nulls":3},82]
[{"$nulls":3},83]
[{"$nulls":3},84]
[{"$nulls":3},85]
[{"$nulls":3},86]
[{"$nulls":3},87]
[{"$nulls":3},88]
[{"$nulls":3},89]
[{"$nulls":3},90]
[{"$nulls":3},91]
[{"$nulls":3},92]
[{"$nulls":3},93]
[{"$nulls":3},94]
[{"$nulls":3},95]
[{"$nulls":3},96]
[{"$nulls":3},97]
[{"$nulls":3},98]
[{"$nulls":3},99]
[{"$nulls":3},100]
[{"$nulls":4},{"$f":"ROUND(E39*1.1, 3)","v":0},{"$f":"ROUND(F39*1.1, 3)","v":0},0,0,0,0,0,0,0,0,0,0,0,0,0,0,null,0,0,null,0,0,0,0,0,0,0,0,0]
[{"$nulls":4},{"$f":"ROUND(E39*0.9, 3)","v":0},{"$f":"ROUND(F39*0.9, 3)","v":0},0,0,0,0,0,0,0,0,0,0,0,0,0,0,null,0,0,null,0,0,0,0,0,0,0,0,0]
[{"$nulls":4},{"$f":"COUNTIF(E42:E141, \">\"&E142)+COUNTIF(E42:E141, \"<\"&E143)","v":0},{"$f":"COUNTIF(F42:F141, \">\"&F142)+COUNTIF(F42:F141, \"<\"&F143)","v":0},0,0,0,0,0,0,0,0,0,0,0,0,0,0,null,0,0,null,0,0,0,0,0,0,0,0,0]

{"sheet":"Standards","index":2,"n_rows":102,"n_cols":55,"rows_kept":102,"merged":[[0,1,0,7],[0,10,0,16],[0,19,0,25],[0,28,0,34],[0,37,0,43],[0,46,0,52]]}
["Age","Hy-Line Brown Commercial",{"$nulls":7},"Age","Hy-Line W-36 Commercial",{"$nulls":7},"Age","Hy-Line W-80 Commercial",{"$nulls":7},"Age","Hy-Line Pink",{"$nulls":7},"Age","Hy-Line Silver Brown",{"$nulls":7},"Age","Hy-Line Sonia",{"$nulls":7},"Click to use dropdown menu"]
["weeks","g","–","g",null,"kg","–","kg",null,"weeks","g","–","g",null,"kg","–","kg",null,"weeks","g","–","g",null,"kg","–","kg",null,"weeks","g","–","g",null,"kg","–","kg",null,"weeks","g","–","g",null,"kg","–","kg",null,"weeks","g","–","g",null,"kg","–","kg",null,"Hy-Line Brown"]
[1,{"$f":"SUM(F3*1000)","v":60},"–",{"$f":"SUM(H3*1000)","v":70},null,{"v":0.06,"d":"0.060"},"–",{"v":0.07,"d":"0.070"},null,1,60,"–",73,null,{"$f":"K3/1000","v":{"v":0.06,"d":"0.060"}},"–",{"$f":"M3/1000","v":0.073},null,1,{"$f":"SUM(X3*1000)","v":70},"–",{"$f":"SUM(Z3*1000)","v":80},null,{"v":0.07,"d":"0.070"},"–",{"v":0.08,"d":"0.080"},null,1,{"$f":"SUM(AG3*1000)","v":70},"–",{"$f":"SUM(AI3*1000)","v":80},null,{"v":0.07,"d":"0.070"},"–",{"v":0.08,"d":"0.080"},null,1,{"$f":"SUM(AP3*1000)","v":70},"–",{"$f":"SUM(AR3*1000)","v":80},null,{"v":0.07,"d":"0.070"},"–",{"v":0.08,"d":"0.080"},null,1,{"$f":"SUM(AY3*1000)","v":70},"–",{"$f":"SUM(BA3*1000)","v":80},null,{"v":0.07,"d":"0.070"},"–",{"v":0.08,"d":"0.080"},null,"Hy-Line W-36"]
[2,{"$f":"SUM(F4*1000)","v":120},"–",{"$f":"SUM(H4*1000)","v":130},null,{"v":0.12,"d":"0.120"},"–",{"v":0.13,"d":"0.130"},null,2,100,"–",118,null,{"$f":"K4/1000","v":{"v":0.1,"d":"0.100"}},"–",{"$f":"M4/1000","v":0.118},null,2,{"$f":"SUM(X4*1000)","v":120},"–",{"$f":"SUM(Z4*1000)","v":130},null,{"v":0.12,"d":"0.120"},"–",{"v":0.13,"d":"0.130"},null,2,{"$f":"SUM(AG4*1000)","v":110},"–",{"$f":"SUM(AI4*1000)","v":120},null,{"v":0.11,"d":"0.110"},"–",{"v":0.12,"d":"0.120"},null,2,{"$f":"SUM(AP4*1000)","v":120},"–",{"$f":"SUM(AR4*1000)","v":130},null,{"v":0.12,"d":"0.120"},"–",{"v":0.13,"d":"0.130"},null,2,{"$f":"SUM(AY4*1000)","v":110},"–",{"$f":"SUM(BA4*1000)","v":120},null,{"v":0.11,"d":"0.110"},"–",{"v":0.12,"d":"0.120"},null,"Hy-Line W-80"]
[3,180,"–",200,null,{"v":0.18,"d":"0.180"},"–",{"v":0.2,"d":"0.200"},null,3,150,"–",181,null,{"v":0.15,"d":"0.150"},"–",0.181,null,3,180,"–",190,null,{"v":0.18,"d":"0.180"},"–",{"v":0.19,"d":"0.190"},null,3,190,"–",200,null,{"v":0.19,"d":"0.190"},"–",{"v":0.2,"d":"0.200"},null,3,180,"–",200,null,{"v":0.18,"d":"0.180"},"–",{"v":0.2,"d":"0.200"},null,3,190,"–",200,null,{"v":0.19,"d":"0.190"},"–",{"v":0.2,"d":"0.200"},null,"Hy-Line Silver Brown"]
[4,260,"–",290,null,{"v":0.26,"d":"0.260"},"–",{"v":0.29,"d":"0.290"},null,4,200,"–",259,null,{"v":0.2,"d":"0.200"},"–",0.259,null,4,250,"–",260,null,{"v":0.25,"d":"0.250"},"–",{"v":0.26,"d":"0.260"},null,4,280,"–",290,null,{"v":0.28,"d":"0.280"},"–",{"v":0.29,"d":"0.290"},null,4,280,"–",290,null,{"v":0.28,"d":"0.280"},"–",{"v":0.29,"d":"0.290"},null,4,280,"–",290,null,{"v":0.28,"d":"0.280"},"–",{"v":0.29,"d":"0.290"},null,"Hy-Line Sonia"]
[5,350,"–",380,null,{"v":0.35,"d":"0.350"},"–",{"v":0.38,"d":"0.380"},null,5,290,"–",349,null,{"v":0.29,"d":"0.290"},"–",0.349,null,5,320,"–",350,null,{"v":0.32,"d":"0.320"},"–",{"v":0.35,"d":"0.350"},null,5,370,"–",390,null,{"v":0.37,"d":"0.370"},"–",{"v":0.39,"d":"0.390"},null,5,370,"–",390,null,{"v":0.37,"d":"0.370"},"–",{"v":0.39,"d":"0.390"},null,5,380,"–",390,null,{"v":0.38,"d":"0.380"},"–",{"v":0.39,"d":"0.390"},null,"Hy-Line Pink"]
[6,460,"–",480,null,{"v":0.46,"d":"0.460"},"–",{"v":0.48,"d":"0.480"},null,6,372,"–",440,null,0.372,"–",{"v":0.44,"d":"0.440"},null,6,410,"–",440,null,{"v":0.41,"d":"0.410"},"–",{"v":0.44,"d":"0.440"},null,6,480,"–",500,null,{"v":0.48,"d":"0.480"},"–",{"v":0.5,"d":"0.500"},null,6,470,"–",490,null,{"v":0.47,"d":"0.470"},"–",{"v":0.49,"d":"0.490"},null,6,490,"–",500,null,{"v":0.49,"d":"0.490"},"–",{"v":0.5,"d":"0.500"}]
[7,550,"–",590,null,{"v":0.55,"d":"0.550"},"–",{"v":0.59,"d":"0.590"},null,7,472,"–",531,null,0.472,"–",0.531,null,7,510,"–",550,null,{"v":0.51,"d":"0.510"},"–",{"v":0.55,"d":"0.550"},null,7,580,"–",600,null,{"v":0.58,"d":"0.580"},"–",{"v":0.6,"d":"0.600"},null,7,570,"–",610,null,{"v":0.57,"d":"0.570"},"–",{"v":0.61,"d":"0.610"},null,7,590,"–",600,null,{"v":0.59,"d":"0.590"},"–",{"v":0.6,"d":"0.600"}]
[8,660,"–",710,null,{"v":0.66,"d":"0.660"},"–",{"v":0.71,"d":"0.710"},null,8,549,"–",621,null,0.549,"–",0.621,null,8,600,"–",650,null,{"v":0.6,"d":"0.600"},"–",{"v":0.65,"d":"0.650"},null,8,700,"–",720,null,{"v":0.7,"d":"0.700"},"–",{"v":0.72,"d":"0.720"},null,8,680,"–",720,null,{"v":0.68,"d":"0.680"},"–",{"v":0.72,"d":"0.720"},null,8,710,"–",720,null,{"v":0.71,"d":"0.710"},"–",{"v":0.72,"d":"0.720"}]
[9,770,"–",820,null,{"v":0.77,"d":"0.770"},"–",{"v":0.82,"d":"0.820"},null,9,649,"–",721,null,0.649,"–",0.721,null,9,700,"–",740,null,{"v":0.7,"d":"0.700"},"–",{"v":0.74,"d":"0.740"},null,9,800,"–",820,null,{"v":0.8,"d":"0.800"},"–",{"v":0.82,"d":"0.820"},null,9,780,"–",820,null,{"v":0.78,"d":"0.780"},"–",{"v":0.82,"d":"0.820"},null,9,810,"–",820,null,{"v":0.81,"d":"0.810"},"–",{"v":0.82,"d":"0.820"}]
[10,870,"–",930,null,{"v":0.87,"d":"0.870"},"–",{"v":0.93,"d":"0.930"},null,10,739,"–",812,null,0.739,"–",0.812,null,10,780,"–",840,null,{"v":0.78,"d":"0.780"},"–",{"v":0.84,"d":"0.840"},null,10,910,"–",930,null,{"v":0.91,"d":"0.910"},"–",{"v":0.93,"d":"0.930"},null,10,870,"–",930,null,{"v":0.87,"d":"0.870"},"–",{"v":0.93,"d":"0.930"},null,10,910,"–",920,null,{"v":0.91,"d":"0.910"},"–",{"v":0.92,"d":"0.920"}]
[11,980,"–",1040,null,{"v":0.98,"d":"0.980"},"–",{"v":1.04,"d":"1.040"},null,11,830,"–",894,null,{"v":0.83,"d":"0.830"},"–",0.894,null,11,860,"–",910,null,{"v":0.86,"d":"0.860"},"–",{"v":0.91,"d":"0.910"},null,11,1010,"–",1030,null,{"v":1.01,"d":"1.010"},"–",{"v":1.03,"d":"1.030"},null,11,970,"–",1030,null,{"v":0.97,"d":"0.970"},"–",{"v":1.03,"d":"1.030"},null,11,1010,"–",1020,null,{"v":1.01,"d":"1.010"},"–",{"v":1.02,"d":"1.020"}]
[12,1070,"–",1130,null,{"v":1.07,"d":"1.070"},"–",{"v":1.13,"d":"1.130"},null,12,921,"–",971,null,0.921,"–",0.971,null,12,920,"–",990,null,{"v":0.92,"d":"0.920"},"–",{"v":0.99,"d":"0.990"},null,12,1110,"–",1130,null,{"v":1.11,"d":"1.110"},"–",{"v":1.13,"d":"1.130"},null,12,1060,"–",1120,null,{"v":1.06,"d":"1.060"},"–",{"v":1.12,"d":"1.120"},null,12,1110,"–",1120,null,{"v":1.11,"d":"1.110"},"–",{"v":1.12,"d":"1.120"}]
[13,1150,"–",1220,null,{"v":1.15,"d":"1.150"},"–",{"v":1.22,"d":"1.220"},null,13,980,"–",1039,null,{"v":0.98,"d":"0.980"},"–",1.039,null,13,980,"–",1050,null,{"v":0.98,"d":"0.980"},"–",{"v":1.05,"d":"1.050"},null,13,1180,"–",1200,null,{"v":1.18,"d":"1.180"},"–",{"v":1.2,"d":"1.200"},null,13,1150,"–",1220,null,{"v":1.15,"d":"1.150"},"–",{"v":1.22,"d":"1.220"},null,13,1180,"–",1190,null,{"v":1.18,"d":"1.180"},"–",{"v":1.19,"d":"1.190"}]
[14,1220,"–",1290,null,{"v":1.22,"d":"1.220"},"–",{"v":1.29,"d":"1.290"},null,14,1039,"–",1111,null,1.039,"–",1.111,null,14,1030,"–",1110,null,{"v":1.03,"d":"1.030"},"–",{"v":1.11,"d":"1.110"},null,14,1250,"–",1280,null,{"v":1.25,"d":"1.250"},"–",{"v":1.28,"d":"1.280"},null,14,1230,"–",1310,null,{"v":1.23,"d":"1.230"},"–",{"v":1.31,"d":"1.310"},null,14,1240,"–",1250,null,{"v":1.24,"d":"1.240"},"–",{"v":1.25,"d":"1.250"}]
[15,1290,"–",1360,null,{"v":1.29,"d":"1.290"},"–",{"v":1.36,"d":"1.360"},null,15,1102,"–",1161,null,1.102,"–",1.161,null,15,1080,"–",1160,null,{"v":1.08,"d":"1.080"},"–",{"v":1.16,"d":"1.160"},null,15,1310,"–",1350,null,{"v":1.31,"d":"1.310"},"–",{"v":1.35,"d":"1.350"},null,15,1320,"–",1400,null,{"v":1.32,"d":"1.320"},"–",{"v":1.4,"d":"1.400"},null,15,1310,"–",1320,null,{"v":1.31,"d":"1.310"},"–",{"v":1.32,"d":"1.320"}]
[16,1360,"–",1430,null,{"v":1.36,"d":"1.360"},"–",{"v":1.43,"d":"1.430"},null,16,1152,"–",1211,null,1.152,"–",1.211,null,16,1130,"–",1210,null,{"v":1.13,"d":"1.130"},"–",{"v":1.21,"d":"1.210"},null,16,1380,"–",1420,null,{"v":1.38,"d":"1.380"},"–",{"v":1.42,"d":"1.420"},null,16,1410,"–",1490,null,{"v":1.41,"d":"1.410"},"–",{"v":1.49,"d":"1.490"},null,16,1380,"–",1390,null,{"v":1.38,"d":"1.380"},"–",{"v":1.39,"d":"1.390"}]
[17,1420,"–",1500,null,{"v":1.42,"d":"1.420"},"–",{"v":1.5,"d":"1.500"},null,17,1188,"–",1252,null,1.188,"–",1.252,null,17,1170,"–",1250,null,{"v":1.17,"d":"1.170"},"–",{"v":1.25,"d":"1.250"},null,17,1440,"–",1480,null,{"v":1.44,"d":"1.440"},"–",{"v":1.48,"d":"1.480"},null,17,1500,"–",1580,null,{"v":1.5,"d":"1.500"},"–",{"v":1.58,"d":"1.580"},null,17,1440,"–",1450,null,{"v":1.44,"d":"1.440"},"–",{"v":1.45,"d":"1.450"}]
[18,1490,"–",1610,null,{"v":1.49,"d":"1.490"},"–",{"v":1.61,"d":"1.610"},null,18,{"$f":"SUM(O20*1000)","v":1230},"–",{"$f":"SUM(Q20*1000)","v":1300},null,{"v":1.23,"d":"1.230"},"–",{"v":1.3,"d":"1.300"},null,18,1250,"–",1270,null,{"v":1.25,"d":"1.250"},"–",{"v":1.27,"d":"1.270"},null,18,1450,"–",1550,null,{"v":1.45,"d":"1.450"},"–",{"v":1.55,"d":"1.550"},null,18,1560,"–",1660,null,{"v":1.56,"d":"1.560"},"–",{"v":1.66,"d":"1.660"},null,18,1450,"–",1500,null,{"v":1.45,"d":"1.450"},"–",{"v":1.5,"d":"1.500"}]
[19,1590,"–",1700,null,{"v":1.59,"d":"1.590"},"–",{"v":1.7,"d":"1.700"},null,19,{"$f":"O21*1000","v":1270},"–",{"$f":"Q21*1000","v":1370},null,{"v":1.27,"d":"1.270"},"–",{"v":1.37,"d":"1.370"},null,19,1310,"–",1330,null,{"v":1.31,"d":"1.310"},"–",{"v":1.33,"d":"1.330"},null,19,1490,"–",1600,null,{"v":1.49,"d":"1.490"},"–",{"v":1.6,"d":"1.600"},null,19,1650,"–",1750,null,{"v":1.65,"d":"1.650"},"–",{"v":1.75,"d":"1.750"},null,19,1470,"–",1520,null,{"v":1.47,"d":"1.470"},"–",{"v":1.52,"d":"1.520"}]
[20,1650,"–",1770,null,{"v":1.65,"d":"1.650"},"–",{"v":1.77,"d":"1.770"},null,20,1320,"–",1430,null,{"v":1.32,"d":"1.320"},"–",{"v":1.43,"d":"1.430"},null,20,1370,"–",1390,null,{"v":1.37,"d":"1.370"},"–",{"v":1.39,"d":"1.390"},null,20,1590,"–",1650,null,{"v":1.59,"d":"1.590"},"–",{"v":1.65,"d":"1.650"},null,20,1710,"–",1810,null,{"v":1.71,"d":"1.710"},"–",{"v":1.81,"d":"1.810"},null,20,1520,"–",1570,null,{"v":1.52,"d":"1.520"},"–",{"v":1.57,"d":"1.570"}]
[21,1700,"–",1810,null,{"v":1.7,"d":"1.700"},"–",{"v":1.81,"d":"1.810"},null,21,1380,"–",1470,null,{"v":1.38,"d":"1.380"},"–",{"v":1.47,"d":"1.470"},null,21,1390,"–",1440,null,{"v":1.39,"d":"1.390"},"–",{"v":1.44,"d":"1.440"},null,21,1670,"–",1700,null,{"v":1.67,"d":"1.670"},"–",{"v":1.7,"d":"1.700"},null,21,1730,"–",1830,null,{"v":1.73,"d":"1.730"},"–",{"v":1.83,"d":"1.830"},null,21,1590,"–",1640,null,{"v":1.59,"d":"1.590"},"–",{"v":1.64,"d":"1.640"}]
[22,1750,"–",1850,null,{"v":1.75,"d":"1.750"},"–",{"v":1.85,"d":"1.850"},null,22,1410,"–",1490,null,{"v":1.41,"d":"1.410"},"–",{"v":1.49,"d":"1.490"},null,22,1430,"–",1460,null,{"v":1.43,"d":"1.430"},"–",{"v":1.46,"d":"1.460"},null,22,1710,"–",1750,null,{"v":1.71,"d":"1.710"},"–",{"v":1.75,"d":"1.750"},null,22,1750,"–",1850,null,{"v":1.75,"d":"1.750"},"–",{"v":1.85,"d":"1.850"},null,22,1700,"–",1750,null,{"v":1.7,"d":"1.700"},"–",{"v":1.75,"d":"1.750"}]
[23,1780,"–",1880,null,{"v":1.78,"d":"1.780"},"–",{"v":1.88,"d":"1.880"},null,23,1430,"–",1500,null,{"v":1.43,"d":"1.430"},"–",{"v":1.5,"d":"1.500"},null,23,1460,"–",1500,null,{"v":1.46,"d":"1.460"},"–",{"v":1.5,"d":"1.500"},null,23,1730,"–",1800,null,{"v":1.73,"d":"1.730"},"–",{"v":1.8,"d":"1.800"},null,23,1770,"–",1870,null,{"v":1.77,"d":"1.770"},"–",{"v":1.87,"d":"1.870"},null,23,1720,"–",1770,null,{"v":1.72,"d":"1.720"},"–",{"v":1.77,"d":"1.770"}]
[24,1810,"–",1910,null,{"v":1.81,"d":"1.810"},"–",{"v":1.91,"d":"1.910"},null,24,1450,"–",1510,null,{"v":1.45,"d":"1.450"},"–",{"v":1.51,"d":"1.510"},null,24,1480,"–",1540,null,{"v":1.48,"d":"1.480"},"–",{"v":1.54,"d":"1.540"},null,24,1740,"–",1830,null,{"v":1.74,"d":"1.740"},"–",{"v":1.83,"d":"1.830"},null,24,1780,"–",1900,null,{"v":1.78,"d":"1.780"},"–",{"v":1.9,"d":"1.900"},null,24,1740,"–",1790,null,{"v":1.74,"d":"1.740"},"–",{"v":1.79,"d":"1.790"}]
[25,1820,"–",1930,null,{"v":1.82,"d":"1.820"},"–",{"v":1.93,"d":"1.930"},null,25,1470,"–",1530,null,{"v":1.47,"d":"1.470"},"–",{"v":1.53,"d":"1.530"},null,25,1500,"–",1580,null,{"v":1.5,"d":"1.500"},"–",{"v":1.58,"d":"1.580"},null,25,1760,"–",1850,null,{"v":1.76,"d":"1.760"},"–",{"v":1.85,"d":"1.850"},null,25,1800,"–",1920,null,{"v":1.8,"d":"1.800"},"–",{"v":1.92,"d":"1.920"},null,25,1760,"–",1810,null,{"v":1.76,"d":"1.760"},"–",{"v":1.81,"d":"1.810"}]
[26,1830,"–",1940,null,{"v":1.83,"d":"1.830"},"–",{"v":1.94,"d":"1.940"},null,26,1480,"–",1540,null,{"v":1.48,"d":"1.480"},"–",{"v":1.54,"d":"1.540"},null,26,1520,"–",1610,null,{"v":1.52,"d":"1.520"},"–",{"v":1.61,"d":"1.610"},null,26,1770,"–",1870,null,{"v":1.77,"d":"1.770"},"–",{"v":1.87,"d":"1.870"},null,26,1820,"–",1940,null,{"v":1.82,"d":"1.820"},"–",{"v":1.94,"d":"1.940"},null,26,1780,"–",1830,null,{"v":1.78,"d":"1.780"},"–",{"v":1.83,"d":"1.830"}]
[27,1850,"–",1950,null,{"v":1.85,"d":"1.850"},"–",{"v":1.95,"d":"1.950"},null,27,1480,"–",1550,null,{"v":1.48,"d":"1.480"},"–",{"v":1.55,"d":"1.550"},null,27,1540,"–",1620,null,{"v":1.54,"d":"1.540"},"–",{"v":1.62,"d":"1.620"},null,27,1780,"–",1890,null,{"v":1.78,"d":"1.780"},"–",{"v":1.89,"d":"1.890"},null,27,1840,"–",1960,null,{"v":1.84,"d":"1.840"},"–",{"v":1.96,"d":"1.960"},null,27,1790,"–",1840,null,{"v":1.79,"d":"1.790"},"–",{"v":1.84,"d":"1.840"}]
[28,1860,"–",1970,null,{"v":1.86,"d":"1.860"},"–",{"v":1.97,"d":"1.970"},null,28,1490,"–",1550,null,{"v":1.49,"d":"1.490"},"–",{"v":1.55,"d":"1.550"},null,28,1550,"–",1660,null,{"v":1.55,"d":"1.550"},"–",{"v":1.66,"d":"1.660"},null,28,1800,"–",1900,null,{"v":1.8,"d":"1.800"},"–",{"v":1.9,"d":"1.900"},null,28,1850,"–",1970,null,{"v":1.85,"d":"1.850"},"–",{"v":1.97,"d":"1.970"},null,28,1800,"–",1850,null,{"v":1.8,"d":"1.800"},"–",{"v":1.85,"d":"1.850"}]
[29,1870,"–",1980,null,{"v":1.87,"d":"1.870"},"–",{"v":1.98,"d":"1.980"},null,29,1500,"–",1560,null,{"v":1.5,"d":"1.500"},"–",{"v":1.56,"d":"1.560"},null,29,1560,"–",1670,null,{"v":1.56,"d":"1.560"},"–",{"v":1.67,"d":"1.670"},null,29,1810,"–",1910,null,{"v":1.81,"d":"1.810"},"–",{"v":1.91,"d":"1.910"},null,29,1860,"–",1980,null,{"v":1.86,"d":"1.860"},"–",{"v":1.98,"d":"1.980"},null,29,1810,"–",1860,null,{"v":1.81,"d":"1.810"},"–",{"v":1.86,"d":"1.860"}]
[30,1870,"–",1980,null,{"v":1.87,"d":"1.870"},"–",{"v":1.98,"d":"1.980"},null,30,1500,"–",1560,null,{"v":1.5,"d":"1.500"},"–",{"v":1.56,"d":"1.560"},null,30,1570,"–",1690,null,{"v":1.57,"d":"1.570"},"–",{"v":1.69,"d":"1.690"},null,30,1820,"–",1920,null,{"v":1.82,"d":"1.820"},"–",{"v":1.92,"d":"1.920"},null,30,1870,"–",1990,null,{"v":1.87,"d":"1.870"},"–",{"v":1.99,"d":"1.990"},null,30,1820,"–",1870,null,{"v":1.82,"d":"1.820"},"–",{"v":1.87,"d":"1.870"}]
[31,1870,"–",1980,null,{"v":1.87,"d":"1.870"},"–",{"v":1.98,"d":"1.980"},null,31,1510,"–",1570,null,{"v":1.51,"d":"1.510"},"–",{"v":1.57,"d":"1.570"},null,31,1580,"–",1700,null,{"v":1.58,"d":"1.580"},"–",{"v":1.7,"d":"1.700"},null,31,1830,"–",1930,null,{"v":1.83,"d":"1.830"},"–",{"v":1.93,"d":"1.930"},null,31,1880,"–",2000,null,{"v":1.88,"d":"1.880"},"–",{"v":2,"d":"2.000"},null,31,1830,"–",1880,null,{"v":1.83,"d":"1.830"},"–",{"v":1.88,"d":"1.880"}]
[32,1880,"–",1990,null,{"v":1.88,"d":"1.880"},"–",{"v":1.99,"d":"1.990"},null,32,1510,"–",1570,null,{"v":1.51,"d":"1.510"},"–",{"v":1.57,"d":"1.570"},null,32,1590,"–",1710,null,{"v":1.59,"d":"1.590"},"–",{"v":1.71,"d":"1.710"},null,32,1840,"–",1930,null,{"v":1.84,"d":"1.840"},"–",{"v":1.93,"d":"1.930"},null,32,1890,"–",2009.9999999999998,null,{"v":1.89,"d":"1.890"},"–",{"v":2.01,"d":"2.010"},null,32,1840,"–",1890,null,{"v":1.84,"d":"1.840"},"–",{"v":1.89,"d":"1.890"}]
[33,1880,"–",1990,null,{"v":1.88,"d":"1.880"},"–",{"v":1.99,"d":"1.990"},null,33,1520,"–",1580,null,{"v":1.52,"d":"1.520"},"–",{"v":1.58,"d":"1.580"},null,33,1590,"–",1710,null,{"v":1.59,"d":"1.590"},"–",{"v":1.71,"d":"1.710"},null,33,1850,"–",1940,null,{"v":1.85,"d":"1.850"},"–",{"v":1.94,"d":"1.940"},null,33,1900,"–",2020,null,{"v":1.9,"d":"1.900"},"–",{"v":2.02,"d":"2.020"},null,33,1850,"–",1900,null,{"v":1.85,"d":"1.850"},"–",{"v":1.9,"d":"1.900"}]
[34,1890,"–",2000,null,{"v":1.89,"d":"1.890"},"–",{"v":2,"d":"2.000"},null,34,1520,"–",1580,null,{"v":1.52,"d":"1.520"},"–",{"v":1.58,"d":"1.580"},null,34,1590,"–",1710,null,{"v":1.59,"d":"1.590"},"–",{"v":1.71,"d":"1.710"},null,34,1850,"–",1940,null,{"v":1.85,"d":"1.850"},"–",{"v":1.94,"d":"1.940"},null,34,1910,"–",2029.9999999999998,null,{"v":1.91,"d":"1.910"},"–",{"v":2.03,"d":"2.030"},null,34,1860,"–",1910,null,{"v":1.86,"d":"1.860"},"–",{"v":1.91,"d":"1.910"}]
[35,1890,"–",2000,null,{"v":1.89,"d":"1.890"},"–",{"v":2,"d":"2.000"},null,35,1530,"–",1590,null,{"v":1.53,"d":"1.530"},"–",{"v":1.59,"d":"1.590"},null,35,1590,"–",1710,null,{"v":1.59,"d":"1.590"},"–",{"v":1.71,"d":"1.710"},null,35,1860,"–",1950,null,{"v":1.86,"d":"1.860"},"–",{"v":1.95,"d":"1.950"},null,35,1920,"–",2040,null,{"v":1.92,"d":"1.920"},"–",{"v":2.04,"d":"2.040"},null,35,1860,"–",1910,null,{"v":1.86,"d":"1.860"},"–",{"v":1.91,"d":"1.910"}]
[36,1890,"–",2000,null,{"v":1.89,"d":"1.890"},"–",{"v":2,"d":"2.000"},null,36,1530,"–",1590,null,{"v":1.53,"d":"1.530"},"–",{"v":1.59,"d":"1.590"},null,36,1590,"–",1710,null,{"v":1.59,"d":"1.590"},"–",{"v":1.71,"d":"1.710"},null,36,1860,"–",1950,null,{"v":1.86,"d":"1.860"},"–",{"v":1.95,"d":"1.950"},null,36,1930,"–",2050,null,{"v":1.93,"d":"1.930"},"–",{"v":2.05,"d":"2.050"},null,36,1870,"–",1920,null,{"v":1.87,"d":"1.870"},"–",{"v":1.92,"d":"1.920"}]
[37,1890,"–",2000,null,{"v":1.89,"d":"1.890"},"–",{"v":2,"d":"2.000"},null,37,1530,"–",1590,null,{"v":1.53,"d":"1.530"},"–",{"v":1.59,"d":"1.590"},null,37,1590,"–",1710,null,{"v":1.59,"d":"1.590"},"–",{"v":1.71,"d":"1.710"},null,37,1860,"–",1950,null,{"v":1.86,"d":"1.860"},"–",{"v":1.95,"d":"1.950"},null,37,1940,"–",2060,null,{"v":1.94,"d":"1.940"},"–",{"v":2.06,"d":"2.060"},null,37,1870,"–",1920,null,{"v":1.87,"d":"1.870"},"–",{"v":1.92,"d":"1.920"}]
[38,1890,"–",2009.9999999999998,null,{"v":1.89,"d":"1.890"},"–",{"v":2.01,"d":"2.010"},null,38,1540,"–",1600,null,{"v":1.54,"d":"1.540"},"–",{"v":1.6,"d":"1.600"},null,38,1590,"–",1710,null,{"v":1.59,"d":"1.590"},"–",{"v":1.71,"d":"1.710"},null,38,1870,"–",1950,null,{"v":1.87,"d":"1.870"},"–",{"v":1.95,"d":"1.950"},null,38,1950,"–",2070,null,{"v":1.95,"d":"1.950"},"–",{"v":2.07,"d":"2.070"},null,38,1880,"–",1930,null,{"v":1.88,"d":"1.880"},"–",{"v":1.93,"d":"1.930"}]
[39,1900,"–",2009.9999999999998,null,{"v":1.9,"d":"1.900"},"–",{"v":2.01,"d":"2.010"},null,39,1540,"–",1600,null,{"v":1.54,"d":"1.540"},"–",{"v":1.6,"d":"1.600"},null,39,1590,"–",1710,null,{"v":1.59,"d":"1.590"},"–",{"v":1.71,"d":"1.710"},null,39,1870,"–",1950,null,{"v":1.87,"d":"1.870"},"–",{"v":1.95,"d":"1.950"},null,39,1950,"–",2070,null,{"v":1.95,"d":"1.950"},"–",{"v":2.07,"d":"2.070"},null,39,1890,"–",1940,null,{"v":1.89,"d":"1.890"},"–",{"v":1.94,"d":"1.940"}]
[40,1900,"–",2009.9999999999998,null,{"v":1.9,"d":"1.900"},"–",{"v":2.01,"d":"2.010"},null,40,1540,"–",1600,null,{"v":1.54,"d":"1.540"},"–",{"v":1.6,"d":"1.600"},null,40,1590,"–",1710,null,{"v":1.59,"d":"1.590"},"–",{"v":1.71,"d":"1.710"},null,40,1870,"–",1950,null,{"v":1.87,"d":"1.870"},"–",{"v":1.95,"d":"1.950"},null,40,1960,"–",2080,null,{"v":1.96,"d":"1.960"},"–",{"v":2.08,"d":"2.080"},null,40,1900,"–",1950,null,{"v":1.9,"d":"1.900"},"–",{"v":1.95,"d":"1.950"}]
[41,1900,"–",2020,null,{"v":1.9,"d":"1.900"},"–",{"v":2.02,"d":"2.020"},null,41,1540,"–",1600,null,{"v":1.54,"d":"1.540"},"–",{"v":1.6,"d":"1.600"},null,41,1590,"–",1710,null,{"v":1.59,"d":"1.590"},"–",{"v":1.71,"d":"1.710"},null,41,1870,"–",1950,null,{"v":1.87,"d":"1.870"},"–",{"v":1.95,"d":"1.950"},null,41,1960,"–",2080,null,{"v":1.96,"d":"1.960"},"–",{"v":2.08,"d":"2.080"},null,41,1910,"–",1960,null,{"v":1.91,"d":"1.910"},"–",{"v":1.96,"d":"1.960"}]
[42,1910,"–",2020,null,{"v":1.91,"d":"1.910"},"–",{"v":2.02,"d":"2.020"},null,42,1550,"–",1610,null,{"v":1.55,"d":"1.550"},"–",{"v":1.61,"d":"1.610"},null,42,1590,"–",1710,null,{"v":1.59,"d":"1.590"},"–",{"v":1.71,"d":"1.710"},null,42,1870,"–",1950,null,{"v":1.87,"d":"1.870"},"–",{"v":1.95,"d":"1.950"},null,42,1960,"–",2080,null,{"v":1.96,"d":"1.960"},"–",{"v":2.08,"d":"2.080"},null,42,1920,"–",1970,null,{"v":1.92,"d":"1.920"},"–",{"v":1.97,"d":"1.970"}]
[43,1910,"–",2020,null,{"v":1.91,"d":"1.910"},"–",{"v":2.02,"d":"2.020"},null,43,1550,"–",1610,null,{"v":1.55,"d":"1.550"},"–",{"v":1.61,"d":"1.610"},null,43,1600,"–",1710,null,{"v":1.6,"d":"1.600"},"–",{"v":1.71,"d":"1.710"},null,43,1870,"–",1950,null,{"v":1.87,"d":"1.870"},"–",{"v":1.95,"d":"1.950"},null,43,1960,"–",2080,null,{"v":1.96,"d":"1.960"},"–",{"v":2.08,"d":"2.080"},null,43,1930,"–",1980,null,{"v":1.93,"d":"1.930"},"–",{"v":1.98,"d":"1.980"}]
[44,1910,"–",2020,null,{"v":1.91,"d":"1.910"},"–",{"v":2.02,"d":"2.020"},null,44,1550,"–",1610,null,{"v":1.55,"d":"1.550"},"–",{"v":1.61,"d":"1.610"},null,44,1600,"–",1710,null,{"v":1.6,"d":"1.600"},"–",{"v":1.71,"d":"1.710"},null,44,1880,"–",1950,null,{"v":1.88,"d":"1.880"},"–",{"v":1.95,"d":"1.950"},null,44,1970,"–",2090,null,{"v":1.97,"d":"1.970"},"–",{"v":2.09,"d":"2.090"},null,44,1940,"–",1990,null,{"v":1.94,"d":"1.940"},"–",{"v":1.99,"d":"1.990"}]
[45,1920,"–",2029.9999999999998,null,{"v":1.92,"d":"1.920"},"–",{"v":2.03,"d":"2.030"},null,45,1550,"–",1610,null,{"v":1.55,"d":"1.550"},"–",{"v":1.61,"d":"1.610"},null,45,1600,"–",1710,null,{"v":1.6,"d":"1.600"},"–",{"v":1.71,"d":"1.710"},null,45,1880,"–",1950,null,{"v":1.88,"d":"1.880"},"–",{"v":1.95,"d":"1.950"},null,45,1970,"–",2090,null,{"v":1.97,"d":"1.970"},"–",{"v":2.09,"d":"2.090"},null,45,1950,"–",2000,null,{"v":1.95,"d":"1.950"},"–",{"v":2,"d":"2.000"}]
[46,1920,"–",2029.9999999999998,null,{"v":1.92,"d":"1.920"},"–",{"v":2.03,"d":"2.030"},null,46,1550,"–",1610,null,{"v":1.55,"d":"1.550"},"–",{"v":1.61,"d":"1.610"},null,46,1600,"–",1720,null,{"v":1.6,"d":"1.600"},"–",{"v":1.72,"d":"1.720"},null,46,1880,"–",1960,null,{"v":1.88,"d":"1.880"},"–",{"v":1.96,"d":"1.960"},null,46,1970,"–",2090,null,{"v":1.97,"d":"1.970"},"–",{"v":2.09,"d":"2.090"},null,46,1960,"–",2009.9999999999998,null,{"v":1.96,"d":"1.960"},"–",{"v":2.01,"d":"2.010"}]
[47,1920,"–",2029.9999999999998,null,{"v":1.92,"d":"1.920"},"–",{"v":2.03,"d":"2.030"},null,47,1550,"–",1610,null,{"v":1.55,"d":"1.550"},"–",{"v":1.61,"d":"1.610"},null,47,1600,"–",1720,null,{"v":1.6,"d":"1.600"},"–",{"v":1.72,"d":"1.720"},null,47,1880,"–",1960,null,{"v":1.88,"d":"1.880"},"–",{"v":1.96,"d":"1.960"},null,47,1970,"–",2090,null,{"v":1.97,"d":"1.970"},"–",{"v":2.09,"d":"2.090"},null,47,1970,"–",2020,null,{"v":1.97,"d":"1.970"},"–",{"v":2.02,"d":"2.020"}]
[48,1920,"–",2029.9999999999998,null,{"v":1.92,"d":"1.920"},"–",{"v":2.03,"d":"2.030"},null,48,1550,"–",1610,null,{"v":1.55,"d":"1.550"},"–",{"v":1.61,"d":"1.610"},null,48,1600,"–",1720,null,{"v":1.6,"d":"1.600"},"–",{"v":1.72,"d":"1.720"},null,48,1880,"–",1960,null,{"v":1.88,"d":"1.880"},"–",{"v":1.96,"d":"1.960"},null,48,1980,"–",2100,null,{"v":1.98,"d":"1.980"},"–",{"v":2.1,"d":"2.100"},null,48,1980,"–",2029.9999999999998,null,{"v":1.98,"d":"1.980"},"–",{"v":2.03,"d":"2.030"}]
[49,1920,"–",2029.9999999999998,null,{"v":1.92,"d":"1.920"},"–",{"v":2.03,"d":"2.030"},null,49,1550,"–",1610,null,{"v":1.55,"d":"1.550"},"–",{"v":1.61,"d":"1.610"},null,49,1600,"–",1720,null,{"v":1.6,"d":"1.600"},"–",{"v":1.72,"d":"1.720"},null,49,1880,"–",1960,null,{"v":1.88,"d":"1.880"},"–",{"v":1.96,"d":"1.960"},null,49,1980,"–",2100,null,{"v":1.98,"d":"1.980"},"–",{"v":2.1,"d":"2.100"},null,49,1990,"–",2040,null,{"v":1.99,"d":"1.990"},"–",{"v":2.04,"d":"2.040"}]
[50,1920,"–",2029.9999999999998,null,{"v":1.92,"d":"1.920"},"–",{"v":2.03,"d":"2.030"},null,50,1550,"–",1610,null,{"v":1.55,"d":"1.550"},"–",{"v":1.61,"d":"1.610"},null,50,1600,"–",1720,null,{"v":1.6,"d":"1.600"},"–",{"v":1.72,"d":"1.720"},null,50,1880,"–",1960,null,{"v":1.88,"d":"1.880"},"–",{"v":1.96,"d":"1.960"},null,50,1980,"–",2100,null,{"v":1.98,"d":"1.980"},"–",{"v":2.1,"d":"2.100"},null,50,1990,"–",2040,null,{"v":1.99,"d":"1.990"},"–",{"v":2.04,"d":"2.040"}]
[51,1920,"–",2029.9999999999998,null,{"v":1.92,"d":"1.920"},"–",{"v":2.03,"d":"2.030"},null,51,1550,"–",1610,null,{"v":1.55,"d":"1.550"},"–",{"v":1.61,"d":"1.610"},null,51,1600,"–",1720,null,{"v":1.6,"d":"1.600"},"–",{"v":1.72,"d":"1.720"},null,51,1880,"–",1960,null,{"v":1.88,"d":"1.880"},"–",{"v":1.96,"d":"1.960"},null,51,1980,"–",2100,null,{"v":1.98,"d":"1.980"},"–",{"v":2.1,"d":"2.100"},null,51,1990,"–",2040,null,{"v":1.99,"d":"1.990"},"–",{"v":2.04,"d":"2.040"}]
[52,1920,"–",2029.9999999999998,null,{"v":1.92,"d":"1.920"},"–",{"v":2.03,"d":"2.030"},null,52,1550,"–",1610,null,{"v":1.55,"d":"1.550"},"–",{"v":1.61,"d":"1.610"},null,52,1600,"–",1720,null,{"v":1.6,"d":"1.600"},"–",{"v":1.72,"d":"1.720"},null,52,1880,"–",1960,null,{"v":1.88,"d":"1.880"},"–",{"v":1.96,"d":"1.960"},null,52,1990,"–",2110,null,{"v":1.99,"d":"1.990"},"–",{"v":2.11,"d":"2.110"},null,52,1990,"–",2040,null,{"v":1.99,"d":"1.990"},"–",{"v":2.04,"d":"2.040"}]
[53,1920,"–",2029.9999999999998,null,{"v":1.92,"d":"1.920"},"–",{"v":2.03,"d":"2.030"},null,53,1550,"–",1610,null,{"v":1.55,"d":"1.550"},"–",{"v":1.61,"d":"1.610"},null,53,1610,"–",1720,null,{"v":1.61,"d":"1.610"},"–",{"v":1.72,"d":"1.720"},null,53,1880,"–",1960,null,{"v":1.88,"d":"1.880"},"–",{"v":1.96,"d":"1.960"},null,53,1990,"–",2110,null,{"v":1.99,"d":"1.990"},"–",{"v":2.11,"d":"2.110"},null,53,1990,"–",2040,null,{"v":1.99,"d":"1.990"},"–",{"v":2.04,"d":"2.040"}]
[54,1920,"–",2029.9999999999998,null,{"v":1.92,"d":"1.920"},"–",{"v":2.03,"d":"2.030"},null,54,1550,"–",1610,null,{"v":1.55,"d":"1.550"},"–",{"v":1.61,"d":"1.610"},null,54,1610,"–",1720,null,{"v":1.61,"d":"1.610"},"–",{"v":1.72,"d":"1.720"},null,54,1890,"–",1960,null,{"v":1.89,"d":"1.890"},"–",{"v":1.96,"d":"1.960"},null,54,1990,"–",2110,null,{"v":1.99,"d":"1.990"},"–",{"v":2.11,"d":"2.110"},null,54,1990,"–",2040,null,{"v":1.99,"d":"1.990"},"–",{"v":2.04,"d":"2.040"}]
[55,1930,"–",2040,null,{"v":1.93,"d":"1.930"},"–",{"v":2.04,"d":"2.040"},null,55,1550,"–",1610,null,{"v":1.55,"d":"1.550"},"–",{"v":1.61,"d":"1.610"},null,55,1610,"–",1720,null,{"v":1.61,"d":"1.610"},"–",{"v":1.72,"d":"1.720"},null,55,1890,"–",1960,null,{"v":1.89,"d":"1.890"},"–",{"v":1.96,"d":"1.960"},null,55,1990,"–",2110,null,{"v":1.99,"d":"1.990"},"–",{"v":2.11,"d":"2.110"},null,55,1990,"–",2040,null,{"v":1.99,"d":"1.990"},"–",{"v":2.04,"d":"2.040"}]
[56,1930,"–",2040,null,{"v":1.93,"d":"1.930"},"–",{"v":2.04,"d":"2.040"},null,56,1550,"–",1610,null,{"v":1.55,"d":"1.550"},"–",{"v":1.61,"d":"1.610"},null,56,1610,"–",1720,null,{"v":1.61,"d":"1.610"},"–",{"v":1.72,"d":"1.720"},null,56,1890,"–",1970,null,{"v":1.89,"d":"1.890"},"–",{"v":1.97,"d":"1.970"},null,56,2000,"–",2120,null,{"v":2,"d":"2.000"},"–",{"v":2.12,"d":"2.120"},null,56,2000,"–",2050,null,{"v":2,"d":"2.000"},"–",{"v":2.05,"d":"2.050"}]
[57,1930,"–",2040,null,{"v":1.93,"d":"1.930"},"–",{"v":2.04,"d":"2.040"},null,57,1550,"–",1610,null,{"v":1.55,"d":"1.550"},"–",{"v":1.61,"d":"1.610"},null,57,1610,"–",1720,null,{"v":1.61,"d":"1.610"},"–",{"v":1.72,"d":"1.720"},null,57,1890,"–",1970,null,{"v":1.89,"d":"1.890"},"–",{"v":1.97,"d":"1.970"},null,57,2000,"–",2120,null,{"v":2,"d":"2.000"},"–",{"v":2.12,"d":"2.120"},null,57,2000,"–",2050,null,{"v":2,"d":"2.000"},"–",{"v":2.05,"d":"2.050"}]
[58,1930,"–",2040,null,{"v":1.93,"d":"1.930"},"–",{"v":2.04,"d":"2.040"},null,58,1550,"–",1610,null,{"v":1.55,"d":"1.550"},"–",{"v":1.61,"d":"1.610"},null,58,1610,"–",1720,null,{"v":1.61,"d":"1.610"},"–",{"v":1.72,"d":"1.720"},null,58,1890,"–",1970,null,{"v":1.89,"d":"1.890"},"–",{"v":1.97,"d":"1.970"},null,58,2000,"–",2120,null,{"v":2,"d":"2.000"},"–",{"v":2.12,"d":"2.120"},null,58,2000,"–",2050,null,{"v":2,"d":"2.000"},"–",{"v":2.05,"d":"2.050"}]
[59,1930,"–",2040,null,{"v":1.93,"d":"1.930"},"–",{"v":2.04,"d":"2.040"},null,59,1550,"–",1610,null,{"v":1.55,"d":"1.550"},"–",{"v":1.61,"d":"1.610"},null,59,1610,"–",1720,null,{"v":1.61,"d":"1.610"},"–",{"v":1.72,"d":"1.720"},null,59,1890,"–",1970,null,{"v":1.89,"d":"1.890"},"–",{"v":1.97,"d":"1.970"},null,59,2000,"–",2120,null,{"v":2,"d":"2.000"},"–",{"v":2.12,"d":"2.120"},null,59,2000,"–",2050,null,{"v":2,"d":"2.000"},"–",{"v":2.05,"d":"2.050"}]
[60,1930,"–",2040,null,{"v":1.93,"d":"1.930"},"–",{"v":2.04,"d":"2.040"},null,60,1550,"–",1610,null,{"v":1.55,"d":"1.550"},"–",{"v":1.61,"d":"1.610"},null,60,1610,"–",1730,null,{"v":1.61,"d":"1.610"},"–",{"v":1.73,"d":"1.730"},null,60,1890,"–",1970,null,{"v":1.89,"d":"1.890"},"–",{"v":1.97,"d":"1.970"},null,60,2000,"–",2120,null,{"v":2,"d":"2.000"},"–",{"v":2.12,"d":"2.120"},null,60,2009.9999999999998,"–",2060,null,{"v":2.01,"d":"2.010"},"–",{"v":2.06,"d":"2.060"}]
[61,1930,"–",2040,null,{"v":1.93,"d":"1.930"},"–",{"v":2.04,"d":"2.040"},null,61,1550,"–",1610,null,{"v":1.55,"d":"1.550"},"–",{"v":1.61,"d":"1.610"},null,61,1610,"–",1730,null,{"v":1.61,"d":"1.610"},"–",{"v":1.73,"d":"1.730"},null,61,1890,"–",1970,null,{"v":1.89,"d":"1.890"},"–",{"v":1.97,"d":"1.970"},null,61,2000,"–",2120,null,{"v":2,"d":"2.000"},"–",{"v":2.12,"d":"2.120"},null,61,2009.9999999999998,"–",2060,null,{"v":2.01,"d":"2.010"},"–",{"v":2.06,"d":"2.060"}]
[62,1930,"–",2040,null,{"v":1.93,"d":"1.930"},"–",{"v":2.04,"d":"2.040"},null,62,1550,"–",1610,null,{"v":1.55,"d":"1.550"},"–",{"v":1.61,"d":"1.610"},null,62,1610,"–",1730,null,{"v":1.61,"d":"1.610"},"–",{"v":1.73,"d":"1.730"},null,62,1890,"–",1970,null,{"v":1.89,"d":"1.890"},"–",{"v":1.97,"d":"1.970"},null,62,2000,"–",2120,null,{"v":2,"d":"2.000"},"–",{"v":2.12,"d":"2.120"},null,62,2009.9999999999998,"–",2060,null,{"v":2.01,"d":"2.010"},"–",{"v":2.06,"d":"2.060"}]
[63,1930,"–",2040,null,{"v":1.93,"d":"1.930"},"–",{"v":2.04,"d":"2.040"},null,63,1550,"–",1610,null,{"v":1.55,"d":"1.550"},"–",{"v":1.61,"d":"1.610"},null,63,1620,"–",1730,null,{"v":1.62,"d":"1.620"},"–",{"v":1.73,"d":"1.730"},null,63,1890,"–",1970,null,{"v":1.89,"d":"1.890"},"–",{"v":1.97,"d":"1.970"},null,63,2000,"–",2120,null,{"v":2,"d":"2.000"},"–",{"v":2.12,"d":"2.120"},null,63,2009.9999999999998,"–",2060,null,{"v":2.01,"d":"2.010"},"–",{"v":2.06,"d":"2.060"}]
[64,1930,"–",2040,null,{"v":1.93,"d":"1.930"},"–",{"v":2.04,"d":"2.040"},null,64,1550,"–",1610,null,{"v":1.55,"d":"1.550"},"–",{"v":1.61,"d":"1.610"},null,64,1620,"–",1730,null,{"v":1.62,"d":"1.620"},"–",{"v":1.73,"d":"1.730"},null,64,1890,"–",1970,null,{"v":1.89,"d":"1.890"},"–",{"v":1.97,"d":"1.970"},null,64,2000,"–",2120,null,{"v":2,"d":"2.000"},"–",{"v":2.12,"d":"2.120"},null,64,2009.9999999999998,"–",2060,null,{"v":2.01,"d":"2.010"},"–",{"v":2.06,"d":"2.060"}]
[65,1930,"–",2040,null,{"v":1.93,"d":"1.930"},"–",{"v":2.04,"d":"2.040"},null,65,1550,"–",1610,null,{"v":1.55,"d":"1.550"},"–",{"v":1.61,"d":"1.610"},null,65,1620,"–",1730,null,{"v":1.62,"d":"1.620"},"–",{"v":1.73,"d":"1.730"},null,65,1890,"–",1970,null,{"v":1.89,"d":"1.890"},"–",{"v":1.97,"d":"1.970"},null,65,2000,"–",2120,null,{"v":2,"d":"2.000"},"–",{"v":2.12,"d":"2.120"},null,65,2009.9999999999998,"–",2060,null,{"v":2.01,"d":"2.010"},"–",{"v":2.06,"d":"2.060"}]
[66,{"$f":"SUM(F68*1000)","v":1930},"–",{"$f":"SUM(H68*1000)","v":2040},null,{"v":1.93,"d":"1.930"},"–",{"v":2.04,"d":"2.040"},null,66,1550,"–",1610,null,{"v":1.55,"d":"1.550"},"–",{"v":1.61,"d":"1.610"},null,66,{"$f":"SUM(X68*1000)","v":1620},"–",{"$f":"SUM(Z68*1000)","v":1730},null,{"v":1.62,"d":"1.620"},"–",{"v":1.73,"d":"1.730"},null,66,{"$f":"SUM(AG68*1000)","v":1890},"–",{"$f":"SUM(AI68*1000)","v":1980},null,{"v":1.89,"d":"1.890"},"–",{"v":1.98,"d":"1.980"},null,66,{"$f":"SUM(AP68*1000)","v":2000},"–",{"$f":"SUM(AR68*1000)","v":2120},null,{"v":2,"d":"2.000"},"–",{"v":2.12,"d":"2.120"},null,66,{"$f":"SUM(AY68*1000)","v":2009.9999999999998},"–",{"$f":"SUM(BA68*1000)","v":2060},null,{"v":2.01,"d":"2.010"},"–",{"v":2.06,"d":"2.060"}]
[67,1930,"–",2040,null,{"v":1.93,"d":"1.930"},"–",{"v":2.04,"d":"2.040"},null,67,1550,"–",1610,null,{"v":1.55,"d":"1.550"},"–",{"v":1.61,"d":"1.610"},null,67,1620,"–",1730,null,{"v":1.62,"d":"1.620"},"–",{"v":1.73,"d":"1.730"},null,67,1900,"–",1980,null,{"v":1.9,"d":"1.900"},"–",{"v":1.98,"d":"1.980"},null,67,2000,"–",2120,null,{"v":2,"d":"2.000"},"–",{"v":2.12,"d":"2.120"},null,67,2009.9999999999998,"–",2060,null,{"v":2.01,"d":"2.010"},"–",{"v":2.06,"d":"2.060"}]
[68,1930,"–",2040,null,{"v":1.93,"d":"1.930"},"–",{"v":2.04,"d":"2.040"},null,68,1550,"–",1610,null,{"v":1.55,"d":"1.550"},"–",{"v":1.61,"d":"1.610"},null,68,1620,"–",1730,null,{"v":1.62,"d":"1.620"},"–",{"v":1.73,"d":"1.730"},null,68,1900,"–",1980,null,{"v":1.9,"d":"1.900"},"–",{"v":1.98,"d":"1.980"},null,68,2000,"–",2120,null,{"v":2,"d":"2.000"},"–",{"v":2.12,"d":"2.120"},null,68,2009.9999999999998,"–",2060,null,{"v":2.01,"d":"2.010"},"–",{"v":2.06,"d":"2.060"}]
[69,1930,"–",2040,null,{"v":1.93,"d":"1.930"},"–",{"v":2.04,"d":"2.040"},null,69,1550,"–",1610,null,{"v":1.55,"d":"1.550"},"–",{"v":1.61,"d":"1.610"},null,69,1620,"–",1730,null,{"v":1.62,"d":"1.620"},"–",{"v":1.73,"d":"1.730"},null,69,1900,"–",1980,null,{"v":1.9,"d":"1.900"},"–",{"v":1.98,"d":"1.980"},null,69,2000,"–",2120,null,{"v":2,"d":"2.000"},"–",{"v":2.12,"d":"2.120"},null,69,2009.9999999999998,"–",2060,null,{"v":2.01,"d":"2.010"},"–",{"v":2.06,"d":"2.060"}]
[70,1930,"–",2040,null,{"v":1.93,"d":"1.930"},"–",{"v":2.04,"d":"2.040"},null,70,1550,"–",1610,null,{"v":1.55,"d":"1.550"},"–",{"v":1.61,"d":"1.610"},null,70,1620,"–",1740,null,{"v":1.62,"d":"1.620"},"–",{"v":1.74,"d":"1.740"},null,70,1900,"–",1980,null,{"v":1.9,"d":"1.900"},"–",{"v":1.98,"d":"1.980"},null,70,2000,"–",2120,null,{"v":2,"d":"2.000"},"–",{"v":2.12,"d":"2.120"},null,70,2009.9999999999998,"–",2060,null,{"v":2.01,"d":"2.010"},"–",{"v":2.06,"d":"2.060"}]
[71,1930,"–",2040,null,{"v":1.93,"d":"1.930"},"–",{"v":2.04,"d":"2.040"},null,71,1550,"–",1610,null,{"v":1.55,"d":"1.550"},"–",{"v":1.61,"d":"1.610"},null,71,1620,"–",1740,null,{"v":1.62,"d":"1.620"},"–",{"v":1.74,"d":"1.740"},null,71,1900,"–",1980,null,{"v":1.9,"d":"1.900"},"–",{"v":1.98,"d":"1.980"},null,71,2000,"–",2120,null,{"v":2,"d":"2.000"},"–",{"v":2.12,"d":"2.120"},null,71,2009.9999999999998,"–",2060,null,{"v":2.01,"d":"2.010"},"–",{"v":2.06,"d":"2.060"}]
[72,1930,"–",2040,null,{"v":1.93,"d":"1.930"},"–",{"v":2.04,"d":"2.040"},null,72,1550,"–",1610,null,{"v":1.55,"d":"1.550"},"–",{"v":1.61,"d":"1.610"},null,72,1620,"–",1740,null,{"v":1.62,"d":"1.620"},"–",{"v":1.74,"d":"1.740"},null,72,1900,"–",1980,null,{"v":1.9,"d":"1.900"},"–",{"v":1.98,"d":"1.980"},null,72,2000,"–",2120,null,{"v":2,"d":"2.000"},"–",{"v":2.12,"d":"2.120"},null,72,2009.9999999999998,"–",2060,null,{"v":2.01,"d":"2.010"},"–",{"v":2.06,"d":"2.060"}]
[73,1930,"–",2040,null,{"v":1.93,"d":"1.930"},"–",{"v":2.04,"d":"2.040"},null,73,1550,"–",1610,null,{"v":1.55,"d":"1.550"},"–",{"v":1.61,"d":"1.610"},null,73,1630,"–",1740,null,{"v":1.63,"d":"1.630"},"–",{"v":1.74,"d":"1.740"},null,73,1900,"–",1980,null,{"v":1.9,"d":"1.900"},"–",{"v":1.98,"d":"1.980"},null,73,2000,"–",2120,null,{"v":2,"d":"2.000"},"–",{"v":2.12,"d":"2.120"},null,73,2009.9999999999998,"–",2060,null,{"v":2.01,"d":"2.010"},"–",{"v":2.06,"d":"2.060"}]
[74,1930,"–",2040,null,{"v":1.93,"d":"1.930"},"–",{"v":2.04,"d":"2.040"},null,74,1550,"–",1610,null,{"v":1.55,"d":"1.550"},"–",{"v":1.61,"d":"1.610"},null,74,1630,"–",1740,null,{"v":1.63,"d":"1.630"},"–",{"v":1.74,"d":"1.740"},null,74,1900,"–",1980,null,{"v":1.9,"d":"1.900"},"–",{"v":1.98,"d":"1.980"},null,74,2000,"–",2120,null,{"v":2,"d":"2.000"},"–",{"v":2.12,"d":"2.120"},null,74,2009.9999999999998,"–",2060,null,{"v":2.01,"d":"2.010"},"–",{"v":2.06,"d":"2.060"}]
[75,1930,"–",2040,null,{"v":1.93,"d":"1.930"},"–",{"v":2.04,"d":"2.040"},null,75,1550,"–",1610,null,{"v":1.55,"d":"1.550"},"–",{"v":1.61,"d":"1.610"},null,75,1630,"–",1740,null,{"v":1.63,"d":"1.630"},"–",{"v":1.74,"d":"1.740"},null,75,1900,"–",1990,null,{"v":1.9,"d":"1.900"},"–",{"v":1.99,"d":"1.990"},null,75,2000,"–",2120,null,{"v":2,"d":"2.000"},"–",{"v":2.12,"d":"2.120"},null,75,2009.9999999999998,"–",2060,null,{"v":2.01,"d":"2.010"},"–",{"v":2.06,"d":"2.060"}]
[76,1930,"–",2040,null,{"v":1.93,"d":"1.930"},"–",{"v":2.04,"d":"2.040"},null,76,1550,"–",1610,null,{"v":1.55,"d":"1.550"},"–",{"v":1.61,"d":"1.610"},null,76,1630,"–",1740,null,{"v":1.63,"d":"1.630"},"–",{"v":1.74,"d":"1.740"},null,76,1900,"–",1990,null,{"v":1.9,"d":"1.900"},"–",{"v":1.99,"d":"1.990"},null,76,2000,"–",2120,null,{"v":2,"d":"2.000"},"–",{"v":2.12,"d":"2.120"},null,76,2009.9999999999998,"–",2060,null,{"v":2.01,"d":"2.010"},"–",{"v":2.06,"d":"2.060"}]
[77,1930,"–",2040,null,{"v":1.93,"d":"1.930"},"–",{"v":2.04,"d":"2.040"},null,77,1550,"–",1610,null,{"v":1.55,"d":"1.550"},"–",{"v":1.61,"d":"1.610"},null,77,1630,"–",1740,null,{"v":1.63,"d":"1.630"},"–",{"v":1.74,"d":"1.740"},null,77,1900,"–",1990,null,{"v":1.9,"d":"1.900"},"–",{"v":1.99,"d":"1.990"},null,77,2000,"–",2120,null,{"v":2,"d":"2.000"},"–",{"v":2.12,"d":"2.120"},null,77,2009.9999999999998,"–",2060,null,{"v":2.01,"d":"2.010"},"–",{"v":2.06,"d":"2.060"}]
[78,1930,"–",2040,null,{"v":1.93,"d":"1.930"},"–",{"v":2.04,"d":"2.040"},null,78,1550,"–",1610,null,{"v":1.55,"d":"1.550"},"–",{"v":1.61,"d":"1.610"},null,78,1630,"–",1740,null,{"v":1.63,"d":"1.630"},"–",{"v":1.74,"d":"1.740"},null,78,1900,"–",1990,null,{"v":1.9,"d":"1.900"},"–",{"v":1.99,"d":"1.990"},null,78,2000,"–",2120,null,{"v":2,"d":"2.000"},"–",{"v":2.12,"d":"2.120"},null,78,2009.9999999999998,"–",2060,null,{"v":2.01,"d":"2.010"},"–",{"v":2.06,"d":"2.060"}]
[79,1930,"–",2040,null,{"v":1.93,"d":"1.930"},"–",{"v":2.04,"d":"2.040"},null,79,1550,"–",1610,null,{"v":1.55,"d":"1.550"},"–",{"v":1.61,"d":"1.610"},null,79,1630,"–",1740,null,{"v":1.63,"d":"1.630"},"–",{"v":1.74,"d":"1.740"},null,79,1900,"–",1990,null,{"v":1.9,"d":"1.900"},"–",{"v":1.99,"d":"1.990"},null,79,2000,"–",2120,null,{"v":2,"d":"2.000"},"–",{"v":2.12,"d":"2.120"},null,79,2009.9999999999998,"–",2060,null,{"v":2.01,"d":"2.010"},"–",{"v":2.06,"d":"2.060"}]
[80,1930,"–",2040,null,{"v":1.93,"d":"1.930"},"–",{"v":2.04,"d":"2.040"},null,80,1550,"–",1610,null,{"v":1.55,"d":"1.550"},"–",{"v":1.61,"d":"1.610"},null,80,1630,"–",1740,null,{"v":1.63,"d":"1.630"},"–",{"v":1.74,"d":"1.740"},null,80,1900,"–",1990,null,{"v":1.9,"d":"1.900"},"–",{"v":1.99,"d":"1.990"},null,80,2000,"–",2120,null,{"v":2,"d":"2.000"},"–",{"v":2.12,"d":"2.120"},null,80,2009.9999999999998,"–",2060,null,{"v":2.01,"d":"2.010"},"–",{"v":2.06,"d":"2.060"}]
[81,1930,"–",2040,null,{"v":1.93,"d":"1.930"},"–",{"v":2.04,"d":"2.040"},null,81,1550,"–",1610,null,{"v":1.55,"d":"1.550"},"–",{"v":1.61,"d":"1.610"},null,81,1630,"–",1740,null,{"v":1.63,"d":"1.630"},"–",{"v":1.74,"d":"1.740"},null,81,1910,"–",2000,null,{"v":1.91,"d":"1.910"},"–",{"v":2,"d":"2.000"},null,81,1630,"–",1740,null,{"v":1.63,"d":"1.630"},"–",{"v":1.74,"d":"1.740"},null,81,2009.9999999999998,"–",2060,null,{"v":2.01,"d":"2.010"},"–",{"v":2.06,"d":"2.060"}]
[82,1930,"–",2040,null,{"v":1.93,"d":"1.930"},"–",{"v":2.04,"d":"2.040"},null,82,1550,"–",1610,null,{"v":1.55,"d":"1.550"},"–",{"v":1.61,"d":"1.610"},null,82,1630,"–",1740,null,{"v":1.63,"d":"1.630"},"–",{"v":1.74,"d":"1.740"},null,82,1910,"–",2000,null,{"v":1.91,"d":"1.910"},"–",{"v":2,"d":"2.000"},null,82,1630,"–",1740,null,{"v":1.63,"d":"1.630"},"–",{"v":1.74,"d":"1.740"},null,82,2009.9999999999998,"–",2060,null,{"v":2.01,"d":"2.010"},"–",{"v":2.06,"d":"2.060"}]
[83,1930,"–",2040,null,{"v":1.93,"d":"1.930"},"–",{"v":2.04,"d":"2.040"},null,83,{"$f":"O85*1000","v":1550},"–",{"$f":"Q85*1000","v":1610},null,{"v":1.55,"d":"1.550"},"–",{"v":1.61,"d":"1.610"},null,83,1640,"–",1740,null,{"v":1.64,"d":"1.640"},"–",{"v":1.74,"d":"1.740"},null,83,1910,"–",2000,null,{"v":1.91,"d":"1.910"},"–",{"v":2,"d":"2.000"},null,83,1640,"–",1740,null,{"v":1.64,"d":"1.640"},"–",{"v":1.74,"d":"1.740"},null,83,2009.9999999999998,"–",2060,null,{"v":2.01,"d":"2.010"},"–",{"v":2.06,"d":"2.060"}]
[84,1930,"–",2040,null,{"v":1.93,"d":"1.930"},"–",{"v":2.04,"d":"2.040"},null,84,1550,"–",1610,null,{"v":1.55,"d":"1.550"},"–",{"v":1.61,"d":"1.610"},null,84,1640,"–",1740,null,{"v":1.64,"d":"1.640"},"–",{"v":1.74,"d":"1.740"},null,84,1910,"–",2000,null,{"v":1.91,"d":"1.910"},"–",{"v":2,"d":"2.000"},null,84,1640,"–",1740,null,{"v":1.64,"d":"1.640"},"–",{"v":1.74,"d":"1.740"},null,84,2009.9999999999998,"–",2060,null,{"v":2.01,"d":"2.010"},"–",{"v":2.06,"d":"2.060"}]
[85,1930,"–",2040,null,{"v":1.93,"d":"1.930"},"–",{"v":2.04,"d":"2.040"},null,85,1550,"–",1610,null,{"v":1.55,"d":"1.550"},"–",{"v":1.61,"d":"1.610"},null,85,1640,"–",1740,null,{"v":1.64,"d":"1.640"},"–",{"v":1.74,"d":"1.740"},null,85,1910,"–",2000,null,{"v":1.91,"d":"1.910"},"–",{"v":2,"d":"2.000"},null,85,1640,"–",1740,null,{"v":1.64,"d":"1.640"},"–",{"v":1.74,"d":"1.740"},null,85,2009.9999999999998,"–",2060,null,{"v":2.01,"d":"2.010"},"–",{"v":2.06,"d":"2.060"}]
[86,1930,"–",2040,null,{"v":1.93,"d":"1.930"},"–",{"v":2.04,"d":"2.040"},null,86,1550,"–",1610,null,{"v":1.55,"d":"1.550"},"–",{"v":1.61,"d":"1.610"},null,86,1640,"–",1740,null,{"v":1.64,"d":"1.640"},"–",{"v":1.74,"d":"1.740"},null,86,1910,"–",2000,null,{"v":1.91,"d":"1.910"},"–",{"v":2,"d":"2.000"},null,86,1640,"–",1740,null,{"v":1.64,"d":"1.640"},"–",{"v":1.74,"d":"1.740"},null,86,2009.9999999999998,"–",2060,null,{"v":2.01,"d":"2.010"},"–",{"v":2.06,"d":"2.060"}]
[87,1930,"–",2040,null,{"v":1.93,"d":"1.930"},"–",{"v":2.04,"d":"2.040"},null,87,1550,"–",1610,null,{"v":1.55,"d":"1.550"},"–",{"v":1.61,"d":"1.610"},null,87,1640,"–",1740,null,{"v":1.64,"d":"1.640"},"–",{"v":1.74,"d":"1.740"},null,87,1910,"–",2000,null,{"v":1.91,"d":"1.910"},"–",{"v":2,"d":"2.000"},null,87,1640,"–",1740,null,{"v":1.64,"d":"1.640"},"–",{"v":1.74,"d":"1.740"},null,87,2009.9999999999998,"–",2060,null,{"v":2.01,"d":"2.010"},"–",{"v":2.06,"d":"2.060"}]
[88,1930,"–",2040,null,{"v":1.93,"d":"1.930"},"–",{"v":2.04,"d":"2.040"},null,88,1550,"–",1610,null,{"v":1.55,"d":"1.550"},"–",{"v":1.61,"d":"1.610"},null,88,1640,"–",1740,null,{"v":1.64,"d":"1.640"},"–",{"v":1.74,"d":"1.740"},null,88,1910,"–",2000,null,{"v":1.91,"d":"1.910"},"–",{"v":2,"d":"2.000"},null,88,1640,"–",1740,null,{"v":1.64,"d":"1.640"},"–",{"v":1.74,"d":"1.740"},null,88,2009.9999999999998,"–",2060,null,{"v":2.01,"d":"2.010"},"–",{"v":2.06,"d":"2.060"}]
[89,1930,"–",2040,null,{"v":1.93,"d":"1.930"},"–",{"v":2.04,"d":"2.040"},null,89,1550,"–",1610,null,{"v":1.55,"d":"1.550"},"–",{"v":1.61,"d":"1.610"},null,89,1640,"–",1740,null,{"v":1.64,"d":"1.640"},"–",{"v":1.74,"d":"1.740"},null,89,1910,"–",2000,null,{"v":1.91,"d":"1.910"},"–",{"v":2,"d":"2.000"},null,89,1640,"–",1740,null,{"v":1.64,"d":"1.640"},"–",{"v":1.74,"d":"1.740"},null,89,2009.9999999999998,"–",2060,null,{"v":2.01,"d":"2.010"},"–",{"v":2.06,"d":"2.060"}]
[90,1930,"–",2040,null,{"v":1.93,"d":"1.930"},"–",{"v":2.04,"d":"2.040"},null,90,1550,"–",1610,null,{"v":1.55,"d":"1.550"},"–",{"v":1.61,"d":"1.610"},null,90,1640,"–",1740,null,{"v":1.64,"d":"1.640"},"–",{"v":1.74,"d":"1.740"},null,90,1910,"–",2000,null,{"v":1.91,"d":"1.910"},"–",{"v":2,"d":"2.000"},null,90,1640,"–",1740,null,{"v":1.64,"d":"1.640"},"–",{"v":1.74,"d":"1.740"},null,90,2009.9999999999998,"–",2060,null,{"v":2.01,"d":"2.010"},"–",{"v":2.06,"d":"2.060"}]
[91,{"$f":"SUM(F93*1000)","v":1940},"–",{"$f":"SUM(H93*1000)","v":2050},null,1.94,"–",2.05,null,91,{"$f":"O93*1000","v":1550},"–",{"$f":"Q93*1000","v":1610},null,1.55,"–",1.61,null,91,1650,"–",1750,null,1.65,"–",1.75]
[92,1940,"–",2050,null,1.94,"–",2.05,null,92,1550,"–",1610,null,1.55,"–",1.61,null,92,1650,"–",1750,null,1.65,"–",1.75]
[93,1940,"–",2050,null,1.94,"–",2.05,null,93,1550,"–",1610,null,1.55,"–",1.61,null,93,1650,"–",1750,null,1.65,"–",1.75]
[94,1940,"–",2050,null,1.94,"–",2.05,null,94,1550,"–",1610,null,1.55,"–",1.61,null,94,1650,"–",1750,null,1.65,"–",1.75]
[95,1940,"–",2050,null,1.94,"–",2.05,null,95,1550,"–",1610,null,1.55,"–",1.61,null,95,1650,"–",1750,null,1.65,"–",1.75]
[96,1940,"–",2050,null,1.94,"–",2.05,null,96,1550,"–",1610,null,1.55,"–",1.61,null,96,1660,"–",1760,null,1.66,"–",1.76]
[97,1940,"–",2050,null,1.94,"–",2.05,null,97,1550,"–",1610,null,1.55,"–",1.61,null,97,1660,"–",1760,null,1.66,"–",1.76]
[98,1940,"–",2050,null,1.94,"–",2.05,null,98,1550,"–",1610,null,1.55,"–",1.61,null,98,1660,"–",1760,null,1.66,"–",1.76]
[99,1940,"–",2050,null,1.94,"–",2.05,null,99,1550,"–",1610,null,1.55,"–",1.61,null,99,1660,"–",1760,null,1.66,"–",1.76]
[100,1940,"–",2050,null,1.94,"–",2.05,null,100,1550,"–",1610,null,1.55,"–",1.61,null,100,1660,"–",1760,null,1.66,"–",1.76]